BEGIN:VCALENDAR
VERSION:2.0
PRODID:-//First Baptist Fort Smith - ECPv6.15.20//NONSGML v1.0//EN
CALSCALE:GREGORIAN
METHOD:PUBLISH
X-WR-CALNAME:First Baptist Fort Smith
X-ORIGINAL-URL:https://fsfbc.org
X-WR-CALDESC:Events for First Baptist Fort Smith
REFRESH-INTERVAL;VALUE=DURATION:PT1H
X-Robots-Tag:noindex
X-PUBLISHED-TTL:PT1H
BEGIN:VTIMEZONE
TZID:America/Chicago
BEGIN:DAYLIGHT
TZOFFSETFROM:-0600
TZOFFSETTO:-0500
TZNAME:CDT
DTSTART:20240310T080000
END:DAYLIGHT
BEGIN:STANDARD
TZOFFSETFROM:-0500
TZOFFSETTO:-0600
TZNAME:CST
DTSTART:20241103T070000
END:STANDARD
BEGIN:DAYLIGHT
TZOFFSETFROM:-0600
TZOFFSETTO:-0500
TZNAME:CDT
DTSTART:20250309T080000
END:DAYLIGHT
BEGIN:STANDARD
TZOFFSETFROM:-0500
TZOFFSETTO:-0600
TZNAME:CST
DTSTART:20251102T070000
END:STANDARD
BEGIN:DAYLIGHT
TZOFFSETFROM:-0600
TZOFFSETTO:-0500
TZNAME:CDT
DTSTART:20260308T080000
END:DAYLIGHT
BEGIN:STANDARD
TZOFFSETFROM:-0500
TZOFFSETTO:-0600
TZNAME:CST
DTSTART:20261101T070000
END:STANDARD
END:VTIMEZONE
BEGIN:VEVENT
DTSTART;TZID=America/Chicago:20250928T091500
DTEND;TZID=America/Chicago:20250928T101500
DTSTAMP:20260423T040936
CREATED:20250730T163604Z
LAST-MODIFIED:20250730T163604Z
UID:10000009-1759050900-1759054500@fsfbc.org
SUMMARY:Sunday School Small Groups 9:15am (Downtown)
DESCRIPTION:We have a Sunday school small group for everyone\, from birth to senior adults. Visit our welcome center for a listing of groups and get connected with friends that can last a lifetime!
URL:https://fsfbc.org/event/sunday-school-small-groups-915am-downtown/2025-09-28/
CATEGORIES:Downtown
END:VEVENT
BEGIN:VEVENT
DTSTART;TZID=America/Chicago:20250928T103000
DTEND;TZID=America/Chicago:20250928T120000
DTSTAMP:20260423T040936
CREATED:20250730T163844Z
LAST-MODIFIED:20250730T163844Z
UID:10000270-1759055400-1759060800@fsfbc.org
SUMMARY:Sunday 10:30am Worship Service (Downtown)
DESCRIPTION:First Baptist Fort Smith’s Sunday morning worship service begins at 10:30 a.m. and includes prayer\, praise and worship songs in a variety of styles\, reading from the Bible\, and preaching. Come join us in worship this Sunday!
URL:https://fsfbc.org/event/sunday-1030am-worship-service-downtown/2025-09-28/
CATEGORIES:Downtown
END:VEVENT
BEGIN:VEVENT
DTSTART;TZID=America/Chicago:20250930T113000
DTEND;TZID=America/Chicago:20250930T130000
DTSTAMP:20260423T040936
CREATED:20250730T164247Z
LAST-MODIFIED:20260422T220512Z
UID:10000792-1759231800-1759237200@fsfbc.org
SUMMARY:Men's Lunch (Downtown)
DESCRIPTION:$7 \nThe Men’s Lunch at First Baptist Fort Smith brings men together from across our area to enjoy a good meal\, experience fellowship with one another\, meet new friends\, and hear a great message. The lunch is held every Tuesday at 11:30 a.m.\, and the cost is only $7.00 per person. We’re always happy to welcome guests\, and we hope to see you soon.
URL:https://fsfbc.org/event/mens-lunch-downtown/2025-09-30/
CATEGORIES:Downtown
END:VEVENT
BEGIN:VEVENT
DTSTART;TZID=America/Chicago:20251001T164500
DTEND;TZID=America/Chicago:20251001T174500
DTSTAMP:20260423T040936
CREATED:20250730T164108Z
LAST-MODIFIED:20260422T220552Z
UID:10000532-1759337100-1759340700@fsfbc.org
SUMMARY:Wednesday Night Family Meal (Downtown)
DESCRIPTION:Join FBC before our Wednesday night activities for a family meal and fellowship. Our Wednesday meal helps families by offering an affordable\, convenient dinner in our Fellowship Hall from 4:45 pm to 5:45 pm. Reservations are requested. \nReservations can be arranged at our Welcome Center on Sunday mornings or by contacting our church office during the week.
URL:https://fsfbc.org/event/wednesday-night-family-meal-downtown/2025-10-01/
CATEGORIES:Downtown
END:VEVENT
BEGIN:VEVENT
DTSTART;TZID=America/Chicago:20251002T113000
DTEND;TZID=America/Chicago:20251002T124500
DTSTAMP:20260423T040936
CREATED:20250730T164359Z
LAST-MODIFIED:20260422T220625Z
UID:10001054-1759404600-1759409100@fsfbc.org
SUMMARY:The 60+ Lunch (Downtown)
DESCRIPTION:$5.00 \nThe 60+ Lunch at First Baptist Fort Smith welcomes everyone in the River Valley 60 years and older for a time of “feast\, fellowship\, & fun” as we eat\, enjoy each other’s company\, and hear a Bible Study or other helpful lessons related to Christian living. \nGuests and visitors are welcome. Cost is only $5.00 per person\, “the best deal in town!”
URL:https://fsfbc.org/event/the-60-lunch-downtown/2025-10-02/
CATEGORIES:Downtown
END:VEVENT
BEGIN:VEVENT
DTSTART;TZID=America/Chicago:20251005T091500
DTEND;TZID=America/Chicago:20251005T101500
DTSTAMP:20260423T040936
CREATED:20250730T163604Z
LAST-MODIFIED:20250730T163604Z
UID:10000010-1759655700-1759659300@fsfbc.org
SUMMARY:Sunday School Small Groups 9:15am (Downtown)
DESCRIPTION:We have a Sunday school small group for everyone\, from birth to senior adults. Visit our welcome center for a listing of groups and get connected with friends that can last a lifetime!
URL:https://fsfbc.org/event/sunday-school-small-groups-915am-downtown/2025-10-05/
CATEGORIES:Downtown
END:VEVENT
BEGIN:VEVENT
DTSTART;TZID=America/Chicago:20251005T103000
DTEND;TZID=America/Chicago:20251005T120000
DTSTAMP:20260423T040936
CREATED:20250730T163844Z
LAST-MODIFIED:20250730T163844Z
UID:10000271-1759660200-1759665600@fsfbc.org
SUMMARY:Sunday 10:30am Worship Service (Downtown)
DESCRIPTION:First Baptist Fort Smith’s Sunday morning worship service begins at 10:30 a.m. and includes prayer\, praise and worship songs in a variety of styles\, reading from the Bible\, and preaching. Come join us in worship this Sunday!
URL:https://fsfbc.org/event/sunday-1030am-worship-service-downtown/2025-10-05/
CATEGORIES:Downtown
END:VEVENT
BEGIN:VEVENT
DTSTART;TZID=America/Chicago:20251007T113000
DTEND;TZID=America/Chicago:20251007T130000
DTSTAMP:20260423T040936
CREATED:20250730T164247Z
LAST-MODIFIED:20260422T220512Z
UID:10000793-1759836600-1759842000@fsfbc.org
SUMMARY:Men's Lunch (Downtown)
DESCRIPTION:$7 \nThe Men’s Lunch at First Baptist Fort Smith brings men together from across our area to enjoy a good meal\, experience fellowship with one another\, meet new friends\, and hear a great message. The lunch is held every Tuesday at 11:30 a.m.\, and the cost is only $7.00 per person. We’re always happy to welcome guests\, and we hope to see you soon.
URL:https://fsfbc.org/event/mens-lunch-downtown/2025-10-07/
CATEGORIES:Downtown
END:VEVENT
BEGIN:VEVENT
DTSTART;TZID=America/Chicago:20251008T164500
DTEND;TZID=America/Chicago:20251008T174500
DTSTAMP:20260423T040936
CREATED:20250730T164108Z
LAST-MODIFIED:20260422T220552Z
UID:10000533-1759941900-1759945500@fsfbc.org
SUMMARY:Wednesday Night Family Meal (Downtown)
DESCRIPTION:Join FBC before our Wednesday night activities for a family meal and fellowship. Our Wednesday meal helps families by offering an affordable\, convenient dinner in our Fellowship Hall from 4:45 pm to 5:45 pm. Reservations are requested. \nReservations can be arranged at our Welcome Center on Sunday mornings or by contacting our church office during the week.
URL:https://fsfbc.org/event/wednesday-night-family-meal-downtown/2025-10-08/
CATEGORIES:Downtown
END:VEVENT
BEGIN:VEVENT
DTSTART;TZID=America/Chicago:20251009T113000
DTEND;TZID=America/Chicago:20251009T124500
DTSTAMP:20260423T040936
CREATED:20250730T164359Z
LAST-MODIFIED:20260422T220625Z
UID:10001055-1760009400-1760013900@fsfbc.org
SUMMARY:The 60+ Lunch (Downtown)
DESCRIPTION:$5.00 \nThe 60+ Lunch at First Baptist Fort Smith welcomes everyone in the River Valley 60 years and older for a time of “feast\, fellowship\, & fun” as we eat\, enjoy each other’s company\, and hear a Bible Study or other helpful lessons related to Christian living. \nGuests and visitors are welcome. Cost is only $5.00 per person\, “the best deal in town!”
URL:https://fsfbc.org/event/the-60-lunch-downtown/2025-10-09/
CATEGORIES:Downtown
END:VEVENT
BEGIN:VEVENT
DTSTART;TZID=America/Chicago:20251012T091500
DTEND;TZID=America/Chicago:20251012T101500
DTSTAMP:20260423T040936
CREATED:20250730T163604Z
LAST-MODIFIED:20250730T163604Z
UID:10000011-1760260500-1760264100@fsfbc.org
SUMMARY:Sunday School Small Groups 9:15am (Downtown)
DESCRIPTION:We have a Sunday school small group for everyone\, from birth to senior adults. Visit our welcome center for a listing of groups and get connected with friends that can last a lifetime!
URL:https://fsfbc.org/event/sunday-school-small-groups-915am-downtown/2025-10-12/
CATEGORIES:Downtown
END:VEVENT
BEGIN:VEVENT
DTSTART;TZID=America/Chicago:20251012T103000
DTEND;TZID=America/Chicago:20251012T120000
DTSTAMP:20260423T040936
CREATED:20250730T163844Z
LAST-MODIFIED:20250730T163844Z
UID:10000272-1760265000-1760270400@fsfbc.org
SUMMARY:Sunday 10:30am Worship Service (Downtown)
DESCRIPTION:First Baptist Fort Smith’s Sunday morning worship service begins at 10:30 a.m. and includes prayer\, praise and worship songs in a variety of styles\, reading from the Bible\, and preaching. Come join us in worship this Sunday!
URL:https://fsfbc.org/event/sunday-1030am-worship-service-downtown/2025-10-12/
CATEGORIES:Downtown
END:VEVENT
BEGIN:VEVENT
DTSTART;TZID=America/Chicago:20251014T113000
DTEND;TZID=America/Chicago:20251014T130000
DTSTAMP:20260423T040936
CREATED:20250730T164247Z
LAST-MODIFIED:20260422T220512Z
UID:10000794-1760441400-1760446800@fsfbc.org
SUMMARY:Men's Lunch (Downtown)
DESCRIPTION:$7 \nThe Men’s Lunch at First Baptist Fort Smith brings men together from across our area to enjoy a good meal\, experience fellowship with one another\, meet new friends\, and hear a great message. The lunch is held every Tuesday at 11:30 a.m.\, and the cost is only $7.00 per person. We’re always happy to welcome guests\, and we hope to see you soon.
URL:https://fsfbc.org/event/mens-lunch-downtown/2025-10-14/
CATEGORIES:Downtown
END:VEVENT
BEGIN:VEVENT
DTSTART;TZID=America/Chicago:20251015T164500
DTEND;TZID=America/Chicago:20251015T174500
DTSTAMP:20260423T040936
CREATED:20250730T164108Z
LAST-MODIFIED:20260422T220552Z
UID:10000534-1760546700-1760550300@fsfbc.org
SUMMARY:Wednesday Night Family Meal (Downtown)
DESCRIPTION:Join FBC before our Wednesday night activities for a family meal and fellowship. Our Wednesday meal helps families by offering an affordable\, convenient dinner in our Fellowship Hall from 4:45 pm to 5:45 pm. Reservations are requested. \nReservations can be arranged at our Welcome Center on Sunday mornings or by contacting our church office during the week.
URL:https://fsfbc.org/event/wednesday-night-family-meal-downtown/2025-10-15/
CATEGORIES:Downtown
END:VEVENT
BEGIN:VEVENT
DTSTART;TZID=America/Chicago:20251015T180000
DTEND;TZID=America/Chicago:20251015T200000
DTSTAMP:20260423T040936
CREATED:20251013T143735Z
LAST-MODIFIED:20251013T143735Z
UID:10001307-1760551200-1760558400@fsfbc.org
SUMMARY:Student Ministry at Fields of Faith
DESCRIPTION:Attention Students at Chaffee and Downtown (6th grade through Hish School)! The FBC Student Ministry is bringing a group to Fellowship of Christian Athletes “Fields of Faith” on Wednesday\, October 15th. Contact our Student Ministry leaders for more information.
URL:https://fsfbc.org/event/student-ministry-at-fields-of-faith/
CATEGORIES:Chaffee,Downtown
ATTACH;FMTTYPE=image/png:https://fsfbc.org/wp-content/uploads/2025/10/02aFields-of-Faith-2025.png
END:VEVENT
BEGIN:VEVENT
DTSTART;TZID=America/Chicago:20251016T113000
DTEND;TZID=America/Chicago:20251016T124500
DTSTAMP:20260423T040936
CREATED:20250730T164359Z
LAST-MODIFIED:20260422T220625Z
UID:10001056-1760614200-1760618700@fsfbc.org
SUMMARY:The 60+ Lunch (Downtown)
DESCRIPTION:$5.00 \nThe 60+ Lunch at First Baptist Fort Smith welcomes everyone in the River Valley 60 years and older for a time of “feast\, fellowship\, & fun” as we eat\, enjoy each other’s company\, and hear a Bible Study or other helpful lessons related to Christian living. \nGuests and visitors are welcome. Cost is only $5.00 per person\, “the best deal in town!”
URL:https://fsfbc.org/event/the-60-lunch-downtown/2025-10-16/
CATEGORIES:Downtown
END:VEVENT
BEGIN:VEVENT
DTSTART;TZID=America/Chicago:20251019T091500
DTEND;TZID=America/Chicago:20251019T101500
DTSTAMP:20260423T040936
CREATED:20250730T163604Z
LAST-MODIFIED:20250730T163604Z
UID:10000012-1760865300-1760868900@fsfbc.org
SUMMARY:Sunday School Small Groups 9:15am (Downtown)
DESCRIPTION:We have a Sunday school small group for everyone\, from birth to senior adults. Visit our welcome center for a listing of groups and get connected with friends that can last a lifetime!
URL:https://fsfbc.org/event/sunday-school-small-groups-915am-downtown/2025-10-19/
CATEGORIES:Downtown
END:VEVENT
BEGIN:VEVENT
DTSTART;TZID=America/Chicago:20251019T103000
DTEND;TZID=America/Chicago:20251019T120000
DTSTAMP:20260423T040936
CREATED:20250730T163844Z
LAST-MODIFIED:20250730T163844Z
UID:10000273-1760869800-1760875200@fsfbc.org
SUMMARY:Sunday 10:30am Worship Service (Downtown)
DESCRIPTION:First Baptist Fort Smith’s Sunday morning worship service begins at 10:30 a.m. and includes prayer\, praise and worship songs in a variety of styles\, reading from the Bible\, and preaching. Come join us in worship this Sunday!
URL:https://fsfbc.org/event/sunday-1030am-worship-service-downtown/2025-10-19/
CATEGORIES:Downtown
END:VEVENT
BEGIN:VEVENT
DTSTART;TZID=America/Chicago:20251021T113000
DTEND;TZID=America/Chicago:20251021T130000
DTSTAMP:20260423T040936
CREATED:20250730T164247Z
LAST-MODIFIED:20260422T220512Z
UID:10000795-1761046200-1761051600@fsfbc.org
SUMMARY:Men's Lunch (Downtown)
DESCRIPTION:$7 \nThe Men’s Lunch at First Baptist Fort Smith brings men together from across our area to enjoy a good meal\, experience fellowship with one another\, meet new friends\, and hear a great message. The lunch is held every Tuesday at 11:30 a.m.\, and the cost is only $7.00 per person. We’re always happy to welcome guests\, and we hope to see you soon.
URL:https://fsfbc.org/event/mens-lunch-downtown/2025-10-21/
CATEGORIES:Downtown
END:VEVENT
BEGIN:VEVENT
DTSTART;TZID=America/Chicago:20251022T164500
DTEND;TZID=America/Chicago:20251022T174500
DTSTAMP:20260423T040936
CREATED:20250730T164108Z
LAST-MODIFIED:20260422T220552Z
UID:10000535-1761151500-1761155100@fsfbc.org
SUMMARY:Wednesday Night Family Meal (Downtown)
DESCRIPTION:Join FBC before our Wednesday night activities for a family meal and fellowship. Our Wednesday meal helps families by offering an affordable\, convenient dinner in our Fellowship Hall from 4:45 pm to 5:45 pm. Reservations are requested. \nReservations can be arranged at our Welcome Center on Sunday mornings or by contacting our church office during the week.
URL:https://fsfbc.org/event/wednesday-night-family-meal-downtown/2025-10-22/
CATEGORIES:Downtown
END:VEVENT
BEGIN:VEVENT
DTSTART;TZID=America/Chicago:20251023T113000
DTEND;TZID=America/Chicago:20251023T124500
DTSTAMP:20260423T040936
CREATED:20250730T164359Z
LAST-MODIFIED:20260422T220625Z
UID:10001057-1761219000-1761223500@fsfbc.org
SUMMARY:The 60+ Lunch (Downtown)
DESCRIPTION:$5.00 \nThe 60+ Lunch at First Baptist Fort Smith welcomes everyone in the River Valley 60 years and older for a time of “feast\, fellowship\, & fun” as we eat\, enjoy each other’s company\, and hear a Bible Study or other helpful lessons related to Christian living. \nGuests and visitors are welcome. Cost is only $5.00 per person\, “the best deal in town!”
URL:https://fsfbc.org/event/the-60-lunch-downtown/2025-10-23/
CATEGORIES:Downtown
END:VEVENT
BEGIN:VEVENT
DTSTART;TZID=America/Chicago:20251026T091500
DTEND;TZID=America/Chicago:20251026T101500
DTSTAMP:20260423T040936
CREATED:20250730T163604Z
LAST-MODIFIED:20250730T163604Z
UID:10000013-1761470100-1761473700@fsfbc.org
SUMMARY:Sunday School Small Groups 9:15am (Downtown)
DESCRIPTION:We have a Sunday school small group for everyone\, from birth to senior adults. Visit our welcome center for a listing of groups and get connected with friends that can last a lifetime!
URL:https://fsfbc.org/event/sunday-school-small-groups-915am-downtown/2025-10-26/
CATEGORIES:Downtown
END:VEVENT
BEGIN:VEVENT
DTSTART;TZID=America/Chicago:20251026T103000
DTEND;TZID=America/Chicago:20251026T120000
DTSTAMP:20260423T040936
CREATED:20250730T163844Z
LAST-MODIFIED:20250730T163844Z
UID:10000274-1761474600-1761480000@fsfbc.org
SUMMARY:Sunday 10:30am Worship Service (Downtown)
DESCRIPTION:First Baptist Fort Smith’s Sunday morning worship service begins at 10:30 a.m. and includes prayer\, praise and worship songs in a variety of styles\, reading from the Bible\, and preaching. Come join us in worship this Sunday!
URL:https://fsfbc.org/event/sunday-1030am-worship-service-downtown/2025-10-26/
CATEGORIES:Downtown
END:VEVENT
BEGIN:VEVENT
DTSTART;TZID=America/Chicago:20251028T113000
DTEND;TZID=America/Chicago:20251028T130000
DTSTAMP:20260423T040936
CREATED:20250730T164247Z
LAST-MODIFIED:20260422T220512Z
UID:10000796-1761651000-1761656400@fsfbc.org
SUMMARY:Men's Lunch (Downtown)
DESCRIPTION:$7 \nThe Men’s Lunch at First Baptist Fort Smith brings men together from across our area to enjoy a good meal\, experience fellowship with one another\, meet new friends\, and hear a great message. The lunch is held every Tuesday at 11:30 a.m.\, and the cost is only $7.00 per person. We’re always happy to welcome guests\, and we hope to see you soon.
URL:https://fsfbc.org/event/mens-lunch-downtown/2025-10-28/
CATEGORIES:Downtown
END:VEVENT
BEGIN:VEVENT
DTSTART;TZID=America/Chicago:20251029T164500
DTEND;TZID=America/Chicago:20251029T174500
DTSTAMP:20260423T040936
CREATED:20250730T164108Z
LAST-MODIFIED:20260422T220552Z
UID:10000536-1761756300-1761759900@fsfbc.org
SUMMARY:Wednesday Night Family Meal (Downtown)
DESCRIPTION:Join FBC before our Wednesday night activities for a family meal and fellowship. Our Wednesday meal helps families by offering an affordable\, convenient dinner in our Fellowship Hall from 4:45 pm to 5:45 pm. Reservations are requested. \nReservations can be arranged at our Welcome Center on Sunday mornings or by contacting our church office during the week.
URL:https://fsfbc.org/event/wednesday-night-family-meal-downtown/2025-10-29/
CATEGORIES:Downtown
END:VEVENT
BEGIN:VEVENT
DTSTART;TZID=America/Chicago:20251030T113000
DTEND;TZID=America/Chicago:20251030T124500
DTSTAMP:20260423T040936
CREATED:20250730T164359Z
LAST-MODIFIED:20260422T220625Z
UID:10001058-1761823800-1761828300@fsfbc.org
SUMMARY:The 60+ Lunch (Downtown)
DESCRIPTION:$5.00 \nThe 60+ Lunch at First Baptist Fort Smith welcomes everyone in the River Valley 60 years and older for a time of “feast\, fellowship\, & fun” as we eat\, enjoy each other’s company\, and hear a Bible Study or other helpful lessons related to Christian living. \nGuests and visitors are welcome. Cost is only $5.00 per person\, “the best deal in town!”
URL:https://fsfbc.org/event/the-60-lunch-downtown/2025-10-30/
CATEGORIES:Downtown
END:VEVENT
BEGIN:VEVENT
DTSTART;TZID=America/Chicago:20251101T100000
DTEND;TZID=America/Chicago:20251101T130000
DTSTAMP:20260423T040936
CREATED:20251013T143332Z
LAST-MODIFIED:20251014T134935Z
UID:10001306-1761991200-1762002000@fsfbc.org
SUMMARY:Men's Ministry Chili Cook Off
DESCRIPTION:FBC Men’s ministry invites our men from FBC at Chaffee and Downtown to one of our favorite annual events\, the Men’s Ministry Chili Cook-Off on Saturday\, November 1 at the FBC Activities Building (downtown) starting at 10:00 a.m.
URL:https://fsfbc.org/event/mens-ministry-chili-cook-off/
CATEGORIES:Chaffee,Downtown
ATTACH;FMTTYPE=image/png:https://fsfbc.org/wp-content/uploads/2025/10/1b2025-Chili-Cook-Off-Small-Print-scaled.png
END:VEVENT
BEGIN:VEVENT
DTSTART;TZID=America/Chicago:20251102T091500
DTEND;TZID=America/Chicago:20251102T101500
DTSTAMP:20260423T040936
CREATED:20250730T163604Z
LAST-MODIFIED:20250730T163604Z
UID:10000014-1762074900-1762078500@fsfbc.org
SUMMARY:Sunday School Small Groups 9:15am (Downtown)
DESCRIPTION:We have a Sunday school small group for everyone\, from birth to senior adults. Visit our welcome center for a listing of groups and get connected with friends that can last a lifetime!
URL:https://fsfbc.org/event/sunday-school-small-groups-915am-downtown/2025-11-02/
CATEGORIES:Downtown
END:VEVENT
BEGIN:VEVENT
DTSTART;TZID=America/Chicago:20251102T103000
DTEND;TZID=America/Chicago:20251102T120000
DTSTAMP:20260423T040936
CREATED:20250730T163844Z
LAST-MODIFIED:20250730T163844Z
UID:10000275-1762079400-1762084800@fsfbc.org
SUMMARY:Sunday 10:30am Worship Service (Downtown)
DESCRIPTION:First Baptist Fort Smith’s Sunday morning worship service begins at 10:30 a.m. and includes prayer\, praise and worship songs in a variety of styles\, reading from the Bible\, and preaching. Come join us in worship this Sunday!
URL:https://fsfbc.org/event/sunday-1030am-worship-service-downtown/2025-11-02/
CATEGORIES:Downtown
END:VEVENT
BEGIN:VEVENT
DTSTART;TZID=America/Chicago:20251104T113000
DTEND;TZID=America/Chicago:20251104T130000
DTSTAMP:20260423T040936
CREATED:20250730T164247Z
LAST-MODIFIED:20260422T220512Z
UID:10000797-1762255800-1762261200@fsfbc.org
SUMMARY:Men's Lunch (Downtown)
DESCRIPTION:$7 \nThe Men’s Lunch at First Baptist Fort Smith brings men together from across our area to enjoy a good meal\, experience fellowship with one another\, meet new friends\, and hear a great message. The lunch is held every Tuesday at 11:30 a.m.\, and the cost is only $7.00 per person. We’re always happy to welcome guests\, and we hope to see you soon.
URL:https://fsfbc.org/event/mens-lunch-downtown/2025-11-04/
CATEGORIES:Downtown
END:VEVENT
END:VCALENDAR