BEGIN:VCALENDAR
VERSION:2.0
PRODID:-//First Baptist Fort Smith - ECPv6.15.20//NONSGML v1.0//EN
CALSCALE:GREGORIAN
METHOD:PUBLISH
X-WR-CALNAME:First Baptist Fort Smith
X-ORIGINAL-URL:https://fsfbc.org
X-WR-CALDESC:Events for First Baptist Fort Smith
REFRESH-INTERVAL;VALUE=DURATION:PT1H
X-Robots-Tag:noindex
X-PUBLISHED-TTL:PT1H
BEGIN:VTIMEZONE
TZID:America/Chicago
BEGIN:DAYLIGHT
TZOFFSETFROM:-0600
TZOFFSETTO:-0500
TZNAME:CDT
DTSTART:20250309T080000
END:DAYLIGHT
BEGIN:STANDARD
TZOFFSETFROM:-0500
TZOFFSETTO:-0600
TZNAME:CST
DTSTART:20251102T070000
END:STANDARD
BEGIN:DAYLIGHT
TZOFFSETFROM:-0600
TZOFFSETTO:-0500
TZNAME:CDT
DTSTART:20260308T080000
END:DAYLIGHT
BEGIN:STANDARD
TZOFFSETFROM:-0500
TZOFFSETTO:-0600
TZNAME:CST
DTSTART:20261101T070000
END:STANDARD
BEGIN:DAYLIGHT
TZOFFSETFROM:-0600
TZOFFSETTO:-0500
TZNAME:CDT
DTSTART:20270314T080000
END:DAYLIGHT
BEGIN:STANDARD
TZOFFSETFROM:-0500
TZOFFSETTO:-0600
TZNAME:CST
DTSTART:20271107T070000
END:STANDARD
END:VTIMEZONE
BEGIN:VEVENT
DTSTART;TZID=America/Chicago:20260211T164500
DTEND;TZID=America/Chicago:20260211T174500
DTSTAMP:20260422T174517
CREATED:20250730T164108Z
LAST-MODIFIED:20260422T220552Z
UID:10000551-1770828300-1770831900@fsfbc.org
SUMMARY:Wednesday Night Family Meal (Downtown)
DESCRIPTION:Join FBC before our Wednesday night activities for a family meal and fellowship. Our Wednesday meal helps families by offering an affordable\, convenient dinner in our Fellowship Hall from 4:45 pm to 5:45 pm. Reservations are requested. \nReservations can be arranged at our Welcome Center on Sunday mornings or by contacting our church office during the week.
URL:https://fsfbc.org/event/wednesday-night-family-meal-downtown/2026-02-11/
CATEGORIES:Downtown
END:VEVENT
BEGIN:VEVENT
DTSTART;TZID=America/Chicago:20260212T113000
DTEND;TZID=America/Chicago:20260212T124500
DTSTAMP:20260422T174518
CREATED:20250730T164359Z
LAST-MODIFIED:20260422T220625Z
UID:10001073-1770895800-1770900300@fsfbc.org
SUMMARY:The 60+ Lunch (Downtown)
DESCRIPTION:$5.00 \nThe 60+ Lunch at First Baptist Fort Smith welcomes everyone in the River Valley 60 years and older for a time of “feast\, fellowship\, & fun” as we eat\, enjoy each other’s company\, and hear a Bible Study or other helpful lessons related to Christian living. \nGuests and visitors are welcome. Cost is only $5.00 per person\, “the best deal in town!”
URL:https://fsfbc.org/event/the-60-lunch-downtown/2026-02-12/
CATEGORIES:Downtown
END:VEVENT
BEGIN:VEVENT
DTSTART;TZID=America/Chicago:20260215T091500
DTEND;TZID=America/Chicago:20260215T101500
DTSTAMP:20260422T174518
CREATED:20250730T163604Z
LAST-MODIFIED:20250730T163604Z
UID:10000029-1771146900-1771150500@fsfbc.org
SUMMARY:Sunday School Small Groups 9:15am (Downtown)
DESCRIPTION:We have a Sunday school small group for everyone\, from birth to senior adults. Visit our welcome center for a listing of groups and get connected with friends that can last a lifetime!
URL:https://fsfbc.org/event/sunday-school-small-groups-915am-downtown/2026-02-15/
CATEGORIES:Downtown
END:VEVENT
BEGIN:VEVENT
DTSTART;TZID=America/Chicago:20260215T103000
DTEND;TZID=America/Chicago:20260215T120000
DTSTAMP:20260422T174518
CREATED:20250730T163844Z
LAST-MODIFIED:20250730T163844Z
UID:10000290-1771151400-1771156800@fsfbc.org
SUMMARY:Sunday 10:30am Worship Service (Downtown)
DESCRIPTION:First Baptist Fort Smith’s Sunday morning worship service begins at 10:30 a.m. and includes prayer\, praise and worship songs in a variety of styles\, reading from the Bible\, and preaching. Come join us in worship this Sunday!
URL:https://fsfbc.org/event/sunday-1030am-worship-service-downtown/2026-02-15/
CATEGORIES:Downtown
END:VEVENT
BEGIN:VEVENT
DTSTART;TZID=America/Chicago:20260215T163000
DTEND;TZID=America/Chicago:20260215T203000
DTSTAMP:20260422T174518
CREATED:20260119T171637Z
LAST-MODIFIED:20260208T123138Z
UID:10001373-1771173000-1771187400@fsfbc.org
SUMMARY:Discussion w/ Pastor Greg & Family Movie Night
DESCRIPTION:Join us for dessert and discussion with Pastor Greg\, where you can ask questions and learn more about the heart of our Pastor\, on Sunday\, February 15 beginning at 4:30 p.m. in our FBC Choir Room (downtown). Then\, we’ll move to the Fellowship Hall to enjoy free Family Movie Night featuring “Light of the World\,” starting at 6:00 with concessions!
URL:https://fsfbc.org/event/dessert-discussion-with-pastor-greg/
CATEGORIES:Chaffee,Downtown
END:VEVENT
BEGIN:VEVENT
DTSTART;TZID=America/Chicago:20260217T113000
DTEND;TZID=America/Chicago:20260217T130000
DTSTAMP:20260422T174518
CREATED:20250730T164247Z
LAST-MODIFIED:20260422T220512Z
UID:10000812-1771327800-1771333200@fsfbc.org
SUMMARY:Men's Lunch (Downtown)
DESCRIPTION:$7 \nThe Men’s Lunch at First Baptist Fort Smith brings men together from across our area to enjoy a good meal\, experience fellowship with one another\, meet new friends\, and hear a great message. The lunch is held every Tuesday at 11:30 a.m.\, and the cost is only $7.00 per person. We’re always happy to welcome guests\, and we hope to see you soon.
URL:https://fsfbc.org/event/mens-lunch-downtown/2026-02-17/
CATEGORIES:Downtown
END:VEVENT
BEGIN:VEVENT
DTSTART;TZID=America/Chicago:20260218T164500
DTEND;TZID=America/Chicago:20260218T174500
DTSTAMP:20260422T174518
CREATED:20250730T164108Z
LAST-MODIFIED:20260422T220552Z
UID:10000552-1771433100-1771436700@fsfbc.org
SUMMARY:Wednesday Night Family Meal (Downtown)
DESCRIPTION:Join FBC before our Wednesday night activities for a family meal and fellowship. Our Wednesday meal helps families by offering an affordable\, convenient dinner in our Fellowship Hall from 4:45 pm to 5:45 pm. Reservations are requested. \nReservations can be arranged at our Welcome Center on Sunday mornings or by contacting our church office during the week.
URL:https://fsfbc.org/event/wednesday-night-family-meal-downtown/2026-02-18/
CATEGORIES:Downtown
END:VEVENT
BEGIN:VEVENT
DTSTART;TZID=America/Chicago:20260219T113000
DTEND;TZID=America/Chicago:20260219T124500
DTSTAMP:20260422T174518
CREATED:20250730T164359Z
LAST-MODIFIED:20260422T220625Z
UID:10001074-1771500600-1771505100@fsfbc.org
SUMMARY:The 60+ Lunch (Downtown)
DESCRIPTION:$5.00 \nThe 60+ Lunch at First Baptist Fort Smith welcomes everyone in the River Valley 60 years and older for a time of “feast\, fellowship\, & fun” as we eat\, enjoy each other’s company\, and hear a Bible Study or other helpful lessons related to Christian living. \nGuests and visitors are welcome. Cost is only $5.00 per person\, “the best deal in town!”
URL:https://fsfbc.org/event/the-60-lunch-downtown/2026-02-19/
CATEGORIES:Downtown
END:VEVENT
BEGIN:VEVENT
DTSTART;TZID=America/Chicago:20260222T091500
DTEND;TZID=America/Chicago:20260222T101500
DTSTAMP:20260422T174518
CREATED:20250730T163604Z
LAST-MODIFIED:20250730T163604Z
UID:10000030-1771751700-1771755300@fsfbc.org
SUMMARY:Sunday School Small Groups 9:15am (Downtown)
DESCRIPTION:We have a Sunday school small group for everyone\, from birth to senior adults. Visit our welcome center for a listing of groups and get connected with friends that can last a lifetime!
URL:https://fsfbc.org/event/sunday-school-small-groups-915am-downtown/2026-02-22/
CATEGORIES:Downtown
END:VEVENT
BEGIN:VEVENT
DTSTART;TZID=America/Chicago:20260222T103000
DTEND;TZID=America/Chicago:20260222T120000
DTSTAMP:20260422T174518
CREATED:20250730T163844Z
LAST-MODIFIED:20250730T163844Z
UID:10000291-1771756200-1771761600@fsfbc.org
SUMMARY:Sunday 10:30am Worship Service (Downtown)
DESCRIPTION:First Baptist Fort Smith’s Sunday morning worship service begins at 10:30 a.m. and includes prayer\, praise and worship songs in a variety of styles\, reading from the Bible\, and preaching. Come join us in worship this Sunday!
URL:https://fsfbc.org/event/sunday-1030am-worship-service-downtown/2026-02-22/
CATEGORIES:Downtown
END:VEVENT
BEGIN:VEVENT
DTSTART;TZID=America/Chicago:20260222T140000
DTEND;TZID=America/Chicago:20260222T160000
DTSTAMP:20260422T174518
CREATED:20260129T221043Z
LAST-MODIFIED:20260129T221043Z
UID:10001375-1771768800-1771776000@fsfbc.org
SUMMARY:Women's Ministry Craft & Connect
DESCRIPTION:Ladies 18+ can register for our Women’s Ministry Craft & Connect event at the table next to our Bible Recap room (Downtown). $15.00 for a single craft\, $20.00 for two. The event will be held in our Fellowship Hall\, FBC Downtown. Please call our church office if you have questions!
URL:https://fsfbc.org/event/womens-ministry-craft-connect/
CATEGORIES:Chaffee,Downtown
END:VEVENT
BEGIN:VEVENT
DTSTART;TZID=America/Chicago:20260224T113000
DTEND;TZID=America/Chicago:20260224T130000
DTSTAMP:20260422T174518
CREATED:20250730T164247Z
LAST-MODIFIED:20260422T220512Z
UID:10000813-1771932600-1771938000@fsfbc.org
SUMMARY:Men's Lunch (Downtown)
DESCRIPTION:$7 \nThe Men’s Lunch at First Baptist Fort Smith brings men together from across our area to enjoy a good meal\, experience fellowship with one another\, meet new friends\, and hear a great message. The lunch is held every Tuesday at 11:30 a.m.\, and the cost is only $7.00 per person. We’re always happy to welcome guests\, and we hope to see you soon.
URL:https://fsfbc.org/event/mens-lunch-downtown/2026-02-24/
CATEGORIES:Downtown
END:VEVENT
BEGIN:VEVENT
DTSTART;TZID=America/Chicago:20260224T180000
DTEND;TZID=America/Chicago:20260224T200000
DTSTAMP:20260422T174518
CREATED:20260119T171406Z
LAST-MODIFIED:20260119T201030Z
UID:10001372-1771956000-1771963200@fsfbc.org
SUMMARY:Widow / Widower Banquet
DESCRIPTION:Join us for our annual Widow / Widower Banquet on Tuesday\, February 24 beginning at 6:00 p.m. in our Fellowship Hall at FBC Downtown\, sponsored by our deacons and their wives.
URL:https://fsfbc.org/event/widows-widower-banquet/
CATEGORIES:Chaffee,Downtown
END:VEVENT
BEGIN:VEVENT
DTSTART;TZID=America/Chicago:20260225T164500
DTEND;TZID=America/Chicago:20260225T174500
DTSTAMP:20260422T174518
CREATED:20250730T164108Z
LAST-MODIFIED:20260422T220552Z
UID:10000553-1772037900-1772041500@fsfbc.org
SUMMARY:Wednesday Night Family Meal (Downtown)
DESCRIPTION:Join FBC before our Wednesday night activities for a family meal and fellowship. Our Wednesday meal helps families by offering an affordable\, convenient dinner in our Fellowship Hall from 4:45 pm to 5:45 pm. Reservations are requested. \nReservations can be arranged at our Welcome Center on Sunday mornings or by contacting our church office during the week.
URL:https://fsfbc.org/event/wednesday-night-family-meal-downtown/2026-02-25/
CATEGORIES:Downtown
END:VEVENT
BEGIN:VEVENT
DTSTART;TZID=America/Chicago:20260226T113000
DTEND;TZID=America/Chicago:20260226T124500
DTSTAMP:20260422T174518
CREATED:20250730T164359Z
LAST-MODIFIED:20260422T220625Z
UID:10001075-1772105400-1772109900@fsfbc.org
SUMMARY:The 60+ Lunch (Downtown)
DESCRIPTION:$5.00 \nThe 60+ Lunch at First Baptist Fort Smith welcomes everyone in the River Valley 60 years and older for a time of “feast\, fellowship\, & fun” as we eat\, enjoy each other’s company\, and hear a Bible Study or other helpful lessons related to Christian living. \nGuests and visitors are welcome. Cost is only $5.00 per person\, “the best deal in town!”
URL:https://fsfbc.org/event/the-60-lunch-downtown/2026-02-26/
CATEGORIES:Downtown
END:VEVENT
BEGIN:VEVENT
DTSTART;TZID=America/Chicago:20260301T091500
DTEND;TZID=America/Chicago:20260301T101500
DTSTAMP:20260422T174518
CREATED:20250730T163604Z
LAST-MODIFIED:20250730T163604Z
UID:10000031-1772356500-1772360100@fsfbc.org
SUMMARY:Sunday School Small Groups 9:15am (Downtown)
DESCRIPTION:We have a Sunday school small group for everyone\, from birth to senior adults. Visit our welcome center for a listing of groups and get connected with friends that can last a lifetime!
URL:https://fsfbc.org/event/sunday-school-small-groups-915am-downtown/2026-03-01/
CATEGORIES:Downtown
END:VEVENT
BEGIN:VEVENT
DTSTART;TZID=America/Chicago:20260301T103000
DTEND;TZID=America/Chicago:20260301T120000
DTSTAMP:20260422T174518
CREATED:20250730T163844Z
LAST-MODIFIED:20250730T163844Z
UID:10000292-1772361000-1772366400@fsfbc.org
SUMMARY:Sunday 10:30am Worship Service (Downtown)
DESCRIPTION:First Baptist Fort Smith’s Sunday morning worship service begins at 10:30 a.m. and includes prayer\, praise and worship songs in a variety of styles\, reading from the Bible\, and preaching. Come join us in worship this Sunday!
URL:https://fsfbc.org/event/sunday-1030am-worship-service-downtown/2026-03-01/
CATEGORIES:Downtown
END:VEVENT
BEGIN:VEVENT
DTSTART;TZID=America/Chicago:20260303T113000
DTEND;TZID=America/Chicago:20260303T130000
DTSTAMP:20260422T174518
CREATED:20250730T164247Z
LAST-MODIFIED:20260422T220512Z
UID:10000814-1772537400-1772542800@fsfbc.org
SUMMARY:Men's Lunch (Downtown)
DESCRIPTION:$7 \nThe Men’s Lunch at First Baptist Fort Smith brings men together from across our area to enjoy a good meal\, experience fellowship with one another\, meet new friends\, and hear a great message. The lunch is held every Tuesday at 11:30 a.m.\, and the cost is only $7.00 per person. We’re always happy to welcome guests\, and we hope to see you soon.
URL:https://fsfbc.org/event/mens-lunch-downtown/2026-03-03/
CATEGORIES:Downtown
END:VEVENT
BEGIN:VEVENT
DTSTART;TZID=America/Chicago:20260304T164500
DTEND;TZID=America/Chicago:20260304T174500
DTSTAMP:20260422T174518
CREATED:20250730T164108Z
LAST-MODIFIED:20260422T220552Z
UID:10000554-1772642700-1772646300@fsfbc.org
SUMMARY:Wednesday Night Family Meal (Downtown)
DESCRIPTION:Join FBC before our Wednesday night activities for a family meal and fellowship. Our Wednesday meal helps families by offering an affordable\, convenient dinner in our Fellowship Hall from 4:45 pm to 5:45 pm. Reservations are requested. \nReservations can be arranged at our Welcome Center on Sunday mornings or by contacting our church office during the week.
URL:https://fsfbc.org/event/wednesday-night-family-meal-downtown/2026-03-04/
CATEGORIES:Downtown
END:VEVENT
BEGIN:VEVENT
DTSTART;TZID=America/Chicago:20260305T113000
DTEND;TZID=America/Chicago:20260305T124500
DTSTAMP:20260422T174518
CREATED:20250730T164359Z
LAST-MODIFIED:20260422T220625Z
UID:10001076-1772710200-1772714700@fsfbc.org
SUMMARY:The 60+ Lunch (Downtown)
DESCRIPTION:$5.00 \nThe 60+ Lunch at First Baptist Fort Smith welcomes everyone in the River Valley 60 years and older for a time of “feast\, fellowship\, & fun” as we eat\, enjoy each other’s company\, and hear a Bible Study or other helpful lessons related to Christian living. \nGuests and visitors are welcome. Cost is only $5.00 per person\, “the best deal in town!”
URL:https://fsfbc.org/event/the-60-lunch-downtown/2026-03-05/
CATEGORIES:Downtown
END:VEVENT
BEGIN:VEVENT
DTSTART;TZID=America/Chicago:20260308T091500
DTEND;TZID=America/Chicago:20260308T101500
DTSTAMP:20260422T174518
CREATED:20250730T163604Z
LAST-MODIFIED:20250730T163604Z
UID:10000032-1772961300-1772964900@fsfbc.org
SUMMARY:Sunday School Small Groups 9:15am (Downtown)
DESCRIPTION:We have a Sunday school small group for everyone\, from birth to senior adults. Visit our welcome center for a listing of groups and get connected with friends that can last a lifetime!
URL:https://fsfbc.org/event/sunday-school-small-groups-915am-downtown/2026-03-08/
CATEGORIES:Downtown
END:VEVENT
BEGIN:VEVENT
DTSTART;TZID=America/Chicago:20260308T103000
DTEND;TZID=America/Chicago:20260308T120000
DTSTAMP:20260422T174518
CREATED:20250730T163844Z
LAST-MODIFIED:20250730T163844Z
UID:10000293-1772965800-1772971200@fsfbc.org
SUMMARY:Sunday 10:30am Worship Service (Downtown)
DESCRIPTION:First Baptist Fort Smith’s Sunday morning worship service begins at 10:30 a.m. and includes prayer\, praise and worship songs in a variety of styles\, reading from the Bible\, and preaching. Come join us in worship this Sunday!
URL:https://fsfbc.org/event/sunday-1030am-worship-service-downtown/2026-03-08/
CATEGORIES:Downtown
END:VEVENT
BEGIN:VEVENT
DTSTART;TZID=America/Chicago:20260310T113000
DTEND;TZID=America/Chicago:20260310T130000
DTSTAMP:20260422T174518
CREATED:20250730T164247Z
LAST-MODIFIED:20260422T220512Z
UID:10000815-1773142200-1773147600@fsfbc.org
SUMMARY:Men's Lunch (Downtown)
DESCRIPTION:$7 \nThe Men’s Lunch at First Baptist Fort Smith brings men together from across our area to enjoy a good meal\, experience fellowship with one another\, meet new friends\, and hear a great message. The lunch is held every Tuesday at 11:30 a.m.\, and the cost is only $7.00 per person. We’re always happy to welcome guests\, and we hope to see you soon.
URL:https://fsfbc.org/event/mens-lunch-downtown/2026-03-10/
CATEGORIES:Downtown
END:VEVENT
BEGIN:VEVENT
DTSTART;TZID=America/Chicago:20260311T164500
DTEND;TZID=America/Chicago:20260311T174500
DTSTAMP:20260422T174518
CREATED:20250730T164108Z
LAST-MODIFIED:20260422T220552Z
UID:10000555-1773247500-1773251100@fsfbc.org
SUMMARY:Wednesday Night Family Meal (Downtown)
DESCRIPTION:Join FBC before our Wednesday night activities for a family meal and fellowship. Our Wednesday meal helps families by offering an affordable\, convenient dinner in our Fellowship Hall from 4:45 pm to 5:45 pm. Reservations are requested. \nReservations can be arranged at our Welcome Center on Sunday mornings or by contacting our church office during the week.
URL:https://fsfbc.org/event/wednesday-night-family-meal-downtown/2026-03-11/
CATEGORIES:Downtown
END:VEVENT
BEGIN:VEVENT
DTSTART;TZID=America/Chicago:20260312T113000
DTEND;TZID=America/Chicago:20260312T124500
DTSTAMP:20260422T174518
CREATED:20250730T164359Z
LAST-MODIFIED:20260422T220625Z
UID:10001077-1773315000-1773319500@fsfbc.org
SUMMARY:The 60+ Lunch (Downtown)
DESCRIPTION:$5.00 \nThe 60+ Lunch at First Baptist Fort Smith welcomes everyone in the River Valley 60 years and older for a time of “feast\, fellowship\, & fun” as we eat\, enjoy each other’s company\, and hear a Bible Study or other helpful lessons related to Christian living. \nGuests and visitors are welcome. Cost is only $5.00 per person\, “the best deal in town!”
URL:https://fsfbc.org/event/the-60-lunch-downtown/2026-03-12/
CATEGORIES:Downtown
END:VEVENT
BEGIN:VEVENT
DTSTART;VALUE=DATE:20260314
DTEND;VALUE=DATE:20260315
DTSTAMP:20260422T174518
CREATED:20260129T222459Z
LAST-MODIFIED:20260219T225501Z
UID:10001376-1773446400-1773532799@fsfbc.org
SUMMARY:The Amazing Chemistry Show
DESCRIPTION:Your family is invited to The Amazing Chemistry Show\, Saturday\, March 14th \nYour family will be amazed and entertained by explosions\, colored foam\, liquid nitrogen and glow-in-the-dark solutions during The Amazing Chemistry Show and Family Experience on Saturday\, March 14 at 10:00 a.m. at our downtown campus at 1400 Grand Avenue. Admission is free. \n“The Amazing Chemistry show uses dramatic and exciting scientific effects in a fun way that’s entertaining for the whole family. We’re very happy to host this free show and science experience for families across the River Valley\,” said Eli Leslie\, Children’s Pastor at First Baptist Fort Smith. \nThe Saturday\, March 14 show will begin at noon and is preceded by a big “science experience” time in the church’s Fellowship Hall at 10:00 a.m. Admission is free. First Baptist Church Fort Smith is located at 1400 Grand Avenue\, Fort Smith\, AR. Founded by Josh Denhart\, The Amazing Chemistry Show www.theamazingchemistryshow.com is an educationally entertaining stage production using fast-paced and engaging science experiments to captivate kids and adults while sharing about the love God has for them. \nIn addition to the hour-long production at noon\, families are invited to participate in a hands-on science experience at the church with more than 150 exhibits featuring rockets\, magnets\, electricity\, magnification\, slime and more\, which begins at 10:00 a.m. in our Fellowship Hall.
URL:https://fsfbc.org/event/the-amazing-chemistry-show/
CATEGORIES:Chaffee,Downtown
END:VEVENT
BEGIN:VEVENT
DTSTART;TZID=America/Chicago:20260315T091500
DTEND;TZID=America/Chicago:20260315T101500
DTSTAMP:20260422T174518
CREATED:20250730T163604Z
LAST-MODIFIED:20250730T163604Z
UID:10000033-1773566100-1773569700@fsfbc.org
SUMMARY:Sunday School Small Groups 9:15am (Downtown)
DESCRIPTION:We have a Sunday school small group for everyone\, from birth to senior adults. Visit our welcome center for a listing of groups and get connected with friends that can last a lifetime!
URL:https://fsfbc.org/event/sunday-school-small-groups-915am-downtown/2026-03-15/
CATEGORIES:Downtown
END:VEVENT
BEGIN:VEVENT
DTSTART;TZID=America/Chicago:20260315T103000
DTEND;TZID=America/Chicago:20260315T120000
DTSTAMP:20260422T174518
CREATED:20250730T163844Z
LAST-MODIFIED:20250730T163844Z
UID:10000294-1773570600-1773576000@fsfbc.org
SUMMARY:Sunday 10:30am Worship Service (Downtown)
DESCRIPTION:First Baptist Fort Smith’s Sunday morning worship service begins at 10:30 a.m. and includes prayer\, praise and worship songs in a variety of styles\, reading from the Bible\, and preaching. Come join us in worship this Sunday!
URL:https://fsfbc.org/event/sunday-1030am-worship-service-downtown/2026-03-15/
CATEGORIES:Downtown
END:VEVENT
BEGIN:VEVENT
DTSTART;TZID=America/Chicago:20260317T113000
DTEND;TZID=America/Chicago:20260317T130000
DTSTAMP:20260422T174518
CREATED:20250730T164247Z
LAST-MODIFIED:20260422T220512Z
UID:10000816-1773747000-1773752400@fsfbc.org
SUMMARY:Men's Lunch (Downtown)
DESCRIPTION:$7 \nThe Men’s Lunch at First Baptist Fort Smith brings men together from across our area to enjoy a good meal\, experience fellowship with one another\, meet new friends\, and hear a great message. The lunch is held every Tuesday at 11:30 a.m.\, and the cost is only $7.00 per person. We’re always happy to welcome guests\, and we hope to see you soon.
URL:https://fsfbc.org/event/mens-lunch-downtown/2026-03-17/
CATEGORIES:Downtown
END:VEVENT
BEGIN:VEVENT
DTSTART;TZID=America/Chicago:20260318T164500
DTEND;TZID=America/Chicago:20260318T174500
DTSTAMP:20260422T174518
CREATED:20250730T164108Z
LAST-MODIFIED:20260422T220552Z
UID:10000556-1773852300-1773855900@fsfbc.org
SUMMARY:Wednesday Night Family Meal (Downtown)
DESCRIPTION:Join FBC before our Wednesday night activities for a family meal and fellowship. Our Wednesday meal helps families by offering an affordable\, convenient dinner in our Fellowship Hall from 4:45 pm to 5:45 pm. Reservations are requested. \nReservations can be arranged at our Welcome Center on Sunday mornings or by contacting our church office during the week.
URL:https://fsfbc.org/event/wednesday-night-family-meal-downtown/2026-03-18/
CATEGORIES:Downtown
END:VEVENT
END:VCALENDAR