BEGIN:VCALENDAR
VERSION:2.0
PRODID:-//First Baptist Fort Smith - ECPv6.15.20//NONSGML v1.0//EN
CALSCALE:GREGORIAN
METHOD:PUBLISH
X-ORIGINAL-URL:https://fsfbc.org
X-WR-CALDESC:Events for First Baptist Fort Smith
REFRESH-INTERVAL;VALUE=DURATION:PT1H
X-Robots-Tag:noindex
X-PUBLISHED-TTL:PT1H
BEGIN:VTIMEZONE
TZID:America/Chicago
BEGIN:DAYLIGHT
TZOFFSETFROM:-0600
TZOFFSETTO:-0500
TZNAME:CDT
DTSTART:20240310T080000
END:DAYLIGHT
BEGIN:STANDARD
TZOFFSETFROM:-0500
TZOFFSETTO:-0600
TZNAME:CST
DTSTART:20241103T070000
END:STANDARD
BEGIN:DAYLIGHT
TZOFFSETFROM:-0600
TZOFFSETTO:-0500
TZNAME:CDT
DTSTART:20250309T080000
END:DAYLIGHT
BEGIN:STANDARD
TZOFFSETFROM:-0500
TZOFFSETTO:-0600
TZNAME:CST
DTSTART:20251102T070000
END:STANDARD
BEGIN:DAYLIGHT
TZOFFSETFROM:-0600
TZOFFSETTO:-0500
TZNAME:CDT
DTSTART:20260308T080000
END:DAYLIGHT
BEGIN:STANDARD
TZOFFSETFROM:-0500
TZOFFSETTO:-0600
TZNAME:CST
DTSTART:20261101T070000
END:STANDARD
END:VTIMEZONE
BEGIN:VEVENT
DTSTART;TZID=America/Chicago:20251030T113000
DTEND;TZID=America/Chicago:20251030T124500
DTSTAMP:20260422T232236
CREATED:20250730T164359Z
LAST-MODIFIED:20260422T220625Z
UID:10001058-1761823800-1761828300@fsfbc.org
SUMMARY:The 60+ Lunch (Downtown)
DESCRIPTION:$5.00 \nThe 60+ Lunch at First Baptist Fort Smith welcomes everyone in the River Valley 60 years and older for a time of “feast\, fellowship\, & fun” as we eat\, enjoy each other’s company\, and hear a Bible Study or other helpful lessons related to Christian living. \nGuests and visitors are welcome. Cost is only $5.00 per person\, “the best deal in town!”
URL:https://fsfbc.org/event/the-60-lunch-downtown/2025-10-30/
CATEGORIES:Downtown
END:VEVENT
BEGIN:VEVENT
DTSTART;TZID=America/Chicago:20251101T100000
DTEND;TZID=America/Chicago:20251101T130000
DTSTAMP:20260422T232236
CREATED:20251013T143332Z
LAST-MODIFIED:20251014T134935Z
UID:10001306-1761991200-1762002000@fsfbc.org
SUMMARY:Men's Ministry Chili Cook Off
DESCRIPTION:FBC Men’s ministry invites our men from FBC at Chaffee and Downtown to one of our favorite annual events\, the Men’s Ministry Chili Cook-Off on Saturday\, November 1 at the FBC Activities Building (downtown) starting at 10:00 a.m.
URL:https://fsfbc.org/event/mens-ministry-chili-cook-off/
CATEGORIES:Chaffee,Downtown
ATTACH;FMTTYPE=image/png:https://fsfbc.org/wp-content/uploads/2025/10/1b2025-Chili-Cook-Off-Small-Print-scaled.png
END:VEVENT
BEGIN:VEVENT
DTSTART;TZID=America/Chicago:20251102T091500
DTEND;TZID=America/Chicago:20251102T101500
DTSTAMP:20260422T232236
CREATED:20250730T163604Z
LAST-MODIFIED:20250730T163604Z
UID:10000014-1762074900-1762078500@fsfbc.org
SUMMARY:Sunday School Small Groups 9:15am (Downtown)
DESCRIPTION:We have a Sunday school small group for everyone\, from birth to senior adults. Visit our welcome center for a listing of groups and get connected with friends that can last a lifetime!
URL:https://fsfbc.org/event/sunday-school-small-groups-915am-downtown/2025-11-02/
CATEGORIES:Downtown
END:VEVENT
BEGIN:VEVENT
DTSTART;TZID=America/Chicago:20251102T103000
DTEND;TZID=America/Chicago:20251102T120000
DTSTAMP:20260422T232236
CREATED:20250730T163844Z
LAST-MODIFIED:20250730T163844Z
UID:10000275-1762079400-1762084800@fsfbc.org
SUMMARY:Sunday 10:30am Worship Service (Downtown)
DESCRIPTION:First Baptist Fort Smith’s Sunday morning worship service begins at 10:30 a.m. and includes prayer\, praise and worship songs in a variety of styles\, reading from the Bible\, and preaching. Come join us in worship this Sunday!
URL:https://fsfbc.org/event/sunday-1030am-worship-service-downtown/2025-11-02/
CATEGORIES:Downtown
END:VEVENT
BEGIN:VEVENT
DTSTART;TZID=America/Chicago:20251104T113000
DTEND;TZID=America/Chicago:20251104T130000
DTSTAMP:20260422T232236
CREATED:20250730T164247Z
LAST-MODIFIED:20260422T220512Z
UID:10000797-1762255800-1762261200@fsfbc.org
SUMMARY:Men's Lunch (Downtown)
DESCRIPTION:$7 \nThe Men’s Lunch at First Baptist Fort Smith brings men together from across our area to enjoy a good meal\, experience fellowship with one another\, meet new friends\, and hear a great message. The lunch is held every Tuesday at 11:30 a.m.\, and the cost is only $7.00 per person. We’re always happy to welcome guests\, and we hope to see you soon.
URL:https://fsfbc.org/event/mens-lunch-downtown/2025-11-04/
CATEGORIES:Downtown
END:VEVENT
BEGIN:VEVENT
DTSTART;TZID=America/Chicago:20251105T164500
DTEND;TZID=America/Chicago:20251105T174500
DTSTAMP:20260422T232236
CREATED:20250730T164108Z
LAST-MODIFIED:20260422T220552Z
UID:10000537-1762361100-1762364700@fsfbc.org
SUMMARY:Wednesday Night Family Meal (Downtown)
DESCRIPTION:Join FBC before our Wednesday night activities for a family meal and fellowship. Our Wednesday meal helps families by offering an affordable\, convenient dinner in our Fellowship Hall from 4:45 pm to 5:45 pm. Reservations are requested. \nReservations can be arranged at our Welcome Center on Sunday mornings or by contacting our church office during the week.
URL:https://fsfbc.org/event/wednesday-night-family-meal-downtown/2025-11-05/
CATEGORIES:Downtown
END:VEVENT
BEGIN:VEVENT
DTSTART;TZID=America/Chicago:20251106T103000
DTEND;TZID=America/Chicago:20251106T140000
DTSTAMP:20260422T232236
CREATED:20251013T144206Z
LAST-MODIFIED:20251013T144508Z
UID:10001308-1762425000-1762437600@fsfbc.org
SUMMARY:60+ Lunch Fall Train Excursion
DESCRIPTION:The 60+ Lunch hits the rails on Thursday\, November 6 on the Arkansas / Missouri Railroad’s Van Buren to Winslow excursion\, taking in the beautiful sights as the leaves change color this Fall. Seating is limited and lunch is provided. Sign up by calling the church office or use the sign-up sheets available at the 60+ Lunch and at the Welcome Desk each Sunday morning.
URL:https://fsfbc.org/event/60-lunch-fall-train-excursion/
CATEGORIES:Chaffee,Downtown
ATTACH;FMTTYPE=image/jpeg:https://fsfbc.org/wp-content/uploads/2025/10/Fall-Train-scaled.jpg
END:VEVENT
BEGIN:VEVENT
DTSTART;TZID=America/Chicago:20251109T091500
DTEND;TZID=America/Chicago:20251109T101500
DTSTAMP:20260422T232236
CREATED:20250730T163604Z
LAST-MODIFIED:20250730T163604Z
UID:10000015-1762679700-1762683300@fsfbc.org
SUMMARY:Sunday School Small Groups 9:15am (Downtown)
DESCRIPTION:We have a Sunday school small group for everyone\, from birth to senior adults. Visit our welcome center for a listing of groups and get connected with friends that can last a lifetime!
URL:https://fsfbc.org/event/sunday-school-small-groups-915am-downtown/2025-11-09/
CATEGORIES:Downtown
END:VEVENT
BEGIN:VEVENT
DTSTART;TZID=America/Chicago:20251109T103000
DTEND;TZID=America/Chicago:20251109T120000
DTSTAMP:20260422T232236
CREATED:20250730T163844Z
LAST-MODIFIED:20250730T163844Z
UID:10000276-1762684200-1762689600@fsfbc.org
SUMMARY:Sunday 10:30am Worship Service (Downtown)
DESCRIPTION:First Baptist Fort Smith’s Sunday morning worship service begins at 10:30 a.m. and includes prayer\, praise and worship songs in a variety of styles\, reading from the Bible\, and preaching. Come join us in worship this Sunday!
URL:https://fsfbc.org/event/sunday-1030am-worship-service-downtown/2025-11-09/
CATEGORIES:Downtown
END:VEVENT
BEGIN:VEVENT
DTSTART;TZID=America/Chicago:20251111T113000
DTEND;TZID=America/Chicago:20251111T130000
DTSTAMP:20260422T232236
CREATED:20250730T164247Z
LAST-MODIFIED:20260422T220512Z
UID:10000798-1762860600-1762866000@fsfbc.org
SUMMARY:Men's Lunch (Downtown)
DESCRIPTION:$7 \nThe Men’s Lunch at First Baptist Fort Smith brings men together from across our area to enjoy a good meal\, experience fellowship with one another\, meet new friends\, and hear a great message. The lunch is held every Tuesday at 11:30 a.m.\, and the cost is only $7.00 per person. We’re always happy to welcome guests\, and we hope to see you soon.
URL:https://fsfbc.org/event/mens-lunch-downtown/2025-11-11/
CATEGORIES:Downtown
END:VEVENT
BEGIN:VEVENT
DTSTART;TZID=America/Chicago:20251112T164500
DTEND;TZID=America/Chicago:20251112T174500
DTSTAMP:20260422T232236
CREATED:20250730T164108Z
LAST-MODIFIED:20260422T220552Z
UID:10000538-1762965900-1762969500@fsfbc.org
SUMMARY:Wednesday Night Family Meal (Downtown)
DESCRIPTION:Join FBC before our Wednesday night activities for a family meal and fellowship. Our Wednesday meal helps families by offering an affordable\, convenient dinner in our Fellowship Hall from 4:45 pm to 5:45 pm. Reservations are requested. \nReservations can be arranged at our Welcome Center on Sunday mornings or by contacting our church office during the week.
URL:https://fsfbc.org/event/wednesday-night-family-meal-downtown/2025-11-12/
CATEGORIES:Downtown
END:VEVENT
BEGIN:VEVENT
DTSTART;TZID=America/Chicago:20251113T113000
DTEND;TZID=America/Chicago:20251113T124500
DTSTAMP:20260422T232236
CREATED:20250730T164359Z
LAST-MODIFIED:20260422T220625Z
UID:10001060-1763033400-1763037900@fsfbc.org
SUMMARY:The 60+ Lunch (Downtown)
DESCRIPTION:$5.00 \nThe 60+ Lunch at First Baptist Fort Smith welcomes everyone in the River Valley 60 years and older for a time of “feast\, fellowship\, & fun” as we eat\, enjoy each other’s company\, and hear a Bible Study or other helpful lessons related to Christian living. \nGuests and visitors are welcome. Cost is only $5.00 per person\, “the best deal in town!”
URL:https://fsfbc.org/event/the-60-lunch-downtown/2025-11-13/
CATEGORIES:Downtown
END:VEVENT
BEGIN:VEVENT
DTSTART;VALUE=DATE:20251116
DTEND;VALUE=DATE:20251117
DTSTAMP:20260422T232236
CREATED:20251013T150547Z
LAST-MODIFIED:20251013T150547Z
UID:10001309-1763251200-1763337599@fsfbc.org
SUMMARY:Lord's Supper | morning service
DESCRIPTION:We will observe the Lord’s Supper in our morning services at Chaffee and Downtown.
URL:https://fsfbc.org/event/lords-supper-morning-service/
CATEGORIES:Chaffee,Downtown
ATTACH;FMTTYPE=image/jpeg:https://fsfbc.org/wp-content/uploads/2025/10/Lords-Supper-scaled.jpg
END:VEVENT
BEGIN:VEVENT
DTSTART;TZID=America/Chicago:20251116T091500
DTEND;TZID=America/Chicago:20251116T101500
DTSTAMP:20260422T232236
CREATED:20250730T163604Z
LAST-MODIFIED:20250730T163604Z
UID:10000016-1763284500-1763288100@fsfbc.org
SUMMARY:Sunday School Small Groups 9:15am (Downtown)
DESCRIPTION:We have a Sunday school small group for everyone\, from birth to senior adults. Visit our welcome center for a listing of groups and get connected with friends that can last a lifetime!
URL:https://fsfbc.org/event/sunday-school-small-groups-915am-downtown/2025-11-16/
CATEGORIES:Downtown
END:VEVENT
BEGIN:VEVENT
DTSTART;TZID=America/Chicago:20251116T103000
DTEND;TZID=America/Chicago:20251116T120000
DTSTAMP:20260422T232236
CREATED:20250730T163844Z
LAST-MODIFIED:20250730T163844Z
UID:10000277-1763289000-1763294400@fsfbc.org
SUMMARY:Sunday 10:30am Worship Service (Downtown)
DESCRIPTION:First Baptist Fort Smith’s Sunday morning worship service begins at 10:30 a.m. and includes prayer\, praise and worship songs in a variety of styles\, reading from the Bible\, and preaching. Come join us in worship this Sunday!
URL:https://fsfbc.org/event/sunday-1030am-worship-service-downtown/2025-11-16/
CATEGORIES:Downtown
END:VEVENT
BEGIN:VEVENT
DTSTART;TZID=America/Chicago:20251116T170000
DTEND;TZID=America/Chicago:20251116T183000
DTSTAMP:20260422T232236
CREATED:20251013T151040Z
LAST-MODIFIED:20251013T151040Z
UID:10001310-1763312400-1763317800@fsfbc.org
SUMMARY:Annual Family Meeting
DESCRIPTION:Our Chaffee and Downtown families are invited to our FBC Annual Family Meeting at the Downtown Campus\, 1400 Grand Avenue\, on Sunday\, November 16 beginning at 5:00 p.m. We’ll celebrate the success of the previous year and share plans for the next year as God leads us to continue reaching people with the saving Gospel of Jesus across the River Valley.
URL:https://fsfbc.org/event/annual-family-meeting/
CATEGORIES:Chaffee,Downtown
ATTACH;FMTTYPE=image/jpeg:https://fsfbc.org/wp-content/uploads/2025/10/Family-Meeting-scaled.jpg
END:VEVENT
BEGIN:VEVENT
DTSTART;TZID=America/Chicago:20251118T113000
DTEND;TZID=America/Chicago:20251118T130000
DTSTAMP:20260422T232236
CREATED:20250730T164247Z
LAST-MODIFIED:20260422T220512Z
UID:10000799-1763465400-1763470800@fsfbc.org
SUMMARY:Men's Lunch (Downtown)
DESCRIPTION:$7 \nThe Men’s Lunch at First Baptist Fort Smith brings men together from across our area to enjoy a good meal\, experience fellowship with one another\, meet new friends\, and hear a great message. The lunch is held every Tuesday at 11:30 a.m.\, and the cost is only $7.00 per person. We’re always happy to welcome guests\, and we hope to see you soon.
URL:https://fsfbc.org/event/mens-lunch-downtown/2025-11-18/
CATEGORIES:Downtown
END:VEVENT
BEGIN:VEVENT
DTSTART;TZID=America/Chicago:20251119T164500
DTEND;TZID=America/Chicago:20251119T174500
DTSTAMP:20260422T232236
CREATED:20250730T164108Z
LAST-MODIFIED:20260422T220552Z
UID:10000539-1763570700-1763574300@fsfbc.org
SUMMARY:Wednesday Night Family Meal (Downtown)
DESCRIPTION:Join FBC before our Wednesday night activities for a family meal and fellowship. Our Wednesday meal helps families by offering an affordable\, convenient dinner in our Fellowship Hall from 4:45 pm to 5:45 pm. Reservations are requested. \nReservations can be arranged at our Welcome Center on Sunday mornings or by contacting our church office during the week.
URL:https://fsfbc.org/event/wednesday-night-family-meal-downtown/2025-11-19/
CATEGORIES:Downtown
END:VEVENT
BEGIN:VEVENT
DTSTART;TZID=America/Chicago:20251120T113000
DTEND;TZID=America/Chicago:20251120T124500
DTSTAMP:20260422T232236
CREATED:20250730T164359Z
LAST-MODIFIED:20260422T220625Z
UID:10001061-1763638200-1763642700@fsfbc.org
SUMMARY:The 60+ Lunch (Downtown)
DESCRIPTION:$5.00 \nThe 60+ Lunch at First Baptist Fort Smith welcomes everyone in the River Valley 60 years and older for a time of “feast\, fellowship\, & fun” as we eat\, enjoy each other’s company\, and hear a Bible Study or other helpful lessons related to Christian living. \nGuests and visitors are welcome. Cost is only $5.00 per person\, “the best deal in town!”
URL:https://fsfbc.org/event/the-60-lunch-downtown/2025-11-20/
CATEGORIES:Downtown
END:VEVENT
BEGIN:VEVENT
DTSTART;TZID=America/Chicago:20251123T091500
DTEND;TZID=America/Chicago:20251123T101500
DTSTAMP:20260422T232236
CREATED:20250730T163604Z
LAST-MODIFIED:20250730T163604Z
UID:10000017-1763889300-1763892900@fsfbc.org
SUMMARY:Sunday School Small Groups 9:15am (Downtown)
DESCRIPTION:We have a Sunday school small group for everyone\, from birth to senior adults. Visit our welcome center for a listing of groups and get connected with friends that can last a lifetime!
URL:https://fsfbc.org/event/sunday-school-small-groups-915am-downtown/2025-11-23/
CATEGORIES:Downtown
END:VEVENT
BEGIN:VEVENT
DTSTART;TZID=America/Chicago:20251123T103000
DTEND;TZID=America/Chicago:20251123T120000
DTSTAMP:20260422T232236
CREATED:20250730T163844Z
LAST-MODIFIED:20250730T163844Z
UID:10000278-1763893800-1763899200@fsfbc.org
SUMMARY:Sunday 10:30am Worship Service (Downtown)
DESCRIPTION:First Baptist Fort Smith’s Sunday morning worship service begins at 10:30 a.m. and includes prayer\, praise and worship songs in a variety of styles\, reading from the Bible\, and preaching. Come join us in worship this Sunday!
URL:https://fsfbc.org/event/sunday-1030am-worship-service-downtown/2025-11-23/
CATEGORIES:Downtown
END:VEVENT
BEGIN:VEVENT
DTSTART;TZID=America/Chicago:20251130T091500
DTEND;TZID=America/Chicago:20251130T101500
DTSTAMP:20260422T232236
CREATED:20250730T163604Z
LAST-MODIFIED:20250730T163604Z
UID:10000018-1764494100-1764497700@fsfbc.org
SUMMARY:Sunday School Small Groups 9:15am (Downtown)
DESCRIPTION:We have a Sunday school small group for everyone\, from birth to senior adults. Visit our welcome center for a listing of groups and get connected with friends that can last a lifetime!
URL:https://fsfbc.org/event/sunday-school-small-groups-915am-downtown/2025-11-30/
CATEGORIES:Downtown
END:VEVENT
BEGIN:VEVENT
DTSTART;TZID=America/Chicago:20251130T103000
DTEND;TZID=America/Chicago:20251130T120000
DTSTAMP:20260422T232236
CREATED:20250730T163844Z
LAST-MODIFIED:20250730T163844Z
UID:10000279-1764498600-1764504000@fsfbc.org
SUMMARY:Sunday 10:30am Worship Service (Downtown)
DESCRIPTION:First Baptist Fort Smith’s Sunday morning worship service begins at 10:30 a.m. and includes prayer\, praise and worship songs in a variety of styles\, reading from the Bible\, and preaching. Come join us in worship this Sunday!
URL:https://fsfbc.org/event/sunday-1030am-worship-service-downtown/2025-11-30/
CATEGORIES:Downtown
END:VEVENT
BEGIN:VEVENT
DTSTART;VALUE=DATE:20251202
DTEND;VALUE=DATE:20251203
DTSTAMP:20260422T232236
CREATED:20251029T161739Z
LAST-MODIFIED:20251029T161739Z
UID:10001322-1764633600-1764719999@fsfbc.org
SUMMARY:FBC Activities Building reserved\, special function (Downtown)
DESCRIPTION:The FBC Activities Building is reserved for Tuesday\, December 2nd for a special FBC function.
URL:https://fsfbc.org/event/fbc-activities-building-reserved-special-function-downtown/
CATEGORIES:Downtown
END:VEVENT
BEGIN:VEVENT
DTSTART;TZID=America/Chicago:20251202T113000
DTEND;TZID=America/Chicago:20251202T130000
DTSTAMP:20260422T232236
CREATED:20250730T164247Z
LAST-MODIFIED:20260422T220512Z
UID:10000801-1764675000-1764680400@fsfbc.org
SUMMARY:Men's Lunch (Downtown)
DESCRIPTION:$7 \nThe Men’s Lunch at First Baptist Fort Smith brings men together from across our area to enjoy a good meal\, experience fellowship with one another\, meet new friends\, and hear a great message. The lunch is held every Tuesday at 11:30 a.m.\, and the cost is only $7.00 per person. We’re always happy to welcome guests\, and we hope to see you soon.
URL:https://fsfbc.org/event/mens-lunch-downtown/2025-12-02/
CATEGORIES:Downtown
END:VEVENT
BEGIN:VEVENT
DTSTART;TZID=America/Chicago:20251203T164500
DTEND;TZID=America/Chicago:20251203T174500
DTSTAMP:20260422T232236
CREATED:20250730T164108Z
LAST-MODIFIED:20260422T220552Z
UID:10000541-1764780300-1764783900@fsfbc.org
SUMMARY:Wednesday Night Family Meal (Downtown)
DESCRIPTION:Join FBC before our Wednesday night activities for a family meal and fellowship. Our Wednesday meal helps families by offering an affordable\, convenient dinner in our Fellowship Hall from 4:45 pm to 5:45 pm. Reservations are requested. \nReservations can be arranged at our Welcome Center on Sunday mornings or by contacting our church office during the week.
URL:https://fsfbc.org/event/wednesday-night-family-meal-downtown/2025-12-03/
CATEGORIES:Downtown
END:VEVENT
BEGIN:VEVENT
DTSTART;TZID=America/Chicago:20251204T113000
DTEND;TZID=America/Chicago:20251204T124500
DTSTAMP:20260422T232236
CREATED:20250730T164359Z
LAST-MODIFIED:20260422T220625Z
UID:10001063-1764847800-1764852300@fsfbc.org
SUMMARY:The 60+ Lunch (Downtown)
DESCRIPTION:$5.00 \nThe 60+ Lunch at First Baptist Fort Smith welcomes everyone in the River Valley 60 years and older for a time of “feast\, fellowship\, & fun” as we eat\, enjoy each other’s company\, and hear a Bible Study or other helpful lessons related to Christian living. \nGuests and visitors are welcome. Cost is only $5.00 per person\, “the best deal in town!”
URL:https://fsfbc.org/event/the-60-lunch-downtown/2025-12-04/
CATEGORIES:Downtown
END:VEVENT
BEGIN:VEVENT
DTSTART;TZID=America/Chicago:20251207T091500
DTEND;TZID=America/Chicago:20251207T101500
DTSTAMP:20260422T232236
CREATED:20250730T163604Z
LAST-MODIFIED:20250730T163604Z
UID:10000019-1765098900-1765102500@fsfbc.org
SUMMARY:Sunday School Small Groups 9:15am (Downtown)
DESCRIPTION:We have a Sunday school small group for everyone\, from birth to senior adults. Visit our welcome center for a listing of groups and get connected with friends that can last a lifetime!
URL:https://fsfbc.org/event/sunday-school-small-groups-915am-downtown/2025-12-07/
CATEGORIES:Downtown
END:VEVENT
BEGIN:VEVENT
DTSTART;TZID=America/Chicago:20251207T103000
DTEND;TZID=America/Chicago:20251207T120000
DTSTAMP:20260422T232236
CREATED:20250730T163844Z
LAST-MODIFIED:20250730T163844Z
UID:10000280-1765103400-1765108800@fsfbc.org
SUMMARY:Sunday 10:30am Worship Service (Downtown)
DESCRIPTION:First Baptist Fort Smith’s Sunday morning worship service begins at 10:30 a.m. and includes prayer\, praise and worship songs in a variety of styles\, reading from the Bible\, and preaching. Come join us in worship this Sunday!
URL:https://fsfbc.org/event/sunday-1030am-worship-service-downtown/2025-12-07/
CATEGORIES:Downtown
END:VEVENT
BEGIN:VEVENT
DTSTART;TZID=America/Chicago:20251207T160000
DTEND;TZID=America/Chicago:20251207T193000
DTSTAMP:20260422T232236
CREATED:20251029T163050Z
LAST-MODIFIED:20251029T163050Z
UID:10001323-1765123200-1765135800@fsfbc.org
SUMMARY:Christmas At First\, 4:30 Festival\, 6:00 concert (Downtown)
DESCRIPTION:“Christmas at First” on Sunday\, December 7 kicks off with a Christmas Festival at 4:30 p.m.\, followed by a praise and worship concert at 6:00 p.m.
URL:https://fsfbc.org/event/christmas-at-first-430-festival-600-concert-downtown/
CATEGORIES:Chaffee,Downtown
END:VEVENT
END:VCALENDAR