BEGIN:VCALENDAR
VERSION:2.0
PRODID:-//First Baptist Fort Smith - ECPv6.15.20//NONSGML v1.0//EN
CALSCALE:GREGORIAN
METHOD:PUBLISH
X-ORIGINAL-URL:https://fsfbc.org
X-WR-CALDESC:Events for First Baptist Fort Smith
REFRESH-INTERVAL;VALUE=DURATION:PT1H
X-Robots-Tag:noindex
X-PUBLISHED-TTL:PT1H
BEGIN:VTIMEZONE
TZID:America/Chicago
BEGIN:DAYLIGHT
TZOFFSETFROM:-0600
TZOFFSETTO:-0500
TZNAME:CDT
DTSTART:20250309T080000
END:DAYLIGHT
BEGIN:STANDARD
TZOFFSETFROM:-0500
TZOFFSETTO:-0600
TZNAME:CST
DTSTART:20251102T070000
END:STANDARD
BEGIN:DAYLIGHT
TZOFFSETFROM:-0600
TZOFFSETTO:-0500
TZNAME:CDT
DTSTART:20260308T080000
END:DAYLIGHT
BEGIN:STANDARD
TZOFFSETFROM:-0500
TZOFFSETTO:-0600
TZNAME:CST
DTSTART:20261101T070000
END:STANDARD
BEGIN:DAYLIGHT
TZOFFSETFROM:-0600
TZOFFSETTO:-0500
TZNAME:CDT
DTSTART:20270314T080000
END:DAYLIGHT
BEGIN:STANDARD
TZOFFSETFROM:-0500
TZOFFSETTO:-0600
TZNAME:CST
DTSTART:20271107T070000
END:STANDARD
BEGIN:DAYLIGHT
TZOFFSETFROM:-0600
TZOFFSETTO:-0500
TZNAME:CDT
DTSTART:20280312T080000
END:DAYLIGHT
BEGIN:STANDARD
TZOFFSETFROM:-0500
TZOFFSETTO:-0600
TZNAME:CST
DTSTART:20281105T070000
END:STANDARD
END:VTIMEZONE
BEGIN:VEVENT
DTSTART;TZID=America/Chicago:20261231T113000
DTEND;TZID=America/Chicago:20261231T124500
DTSTAMP:20260423T041104
CREATED:20250730T164359Z
LAST-MODIFIED:20260422T220625Z
UID:10001119-1798716600-1798721100@fsfbc.org
SUMMARY:The 60+ Lunch (Downtown)
DESCRIPTION:$5.00 \nThe 60+ Lunch at First Baptist Fort Smith welcomes everyone in the River Valley 60 years and older for a time of “feast\, fellowship\, & fun” as we eat\, enjoy each other’s company\, and hear a Bible Study or other helpful lessons related to Christian living. \nGuests and visitors are welcome. Cost is only $5.00 per person\, “the best deal in town!”
URL:https://fsfbc.org/event/the-60-lunch-downtown/2026-12-31/
CATEGORIES:Downtown
END:VEVENT
BEGIN:VEVENT
DTSTART;TZID=America/Chicago:20270103T091500
DTEND;TZID=America/Chicago:20270103T101500
DTSTAMP:20260423T041104
CREATED:20250730T163604Z
LAST-MODIFIED:20250730T163604Z
UID:10000075-1798967700-1798971300@fsfbc.org
SUMMARY:Sunday School Small Groups 9:15am (Downtown)
DESCRIPTION:We have a Sunday school small group for everyone\, from birth to senior adults. Visit our welcome center for a listing of groups and get connected with friends that can last a lifetime!
URL:https://fsfbc.org/event/sunday-school-small-groups-915am-downtown/2027-01-03/
CATEGORIES:Downtown
END:VEVENT
BEGIN:VEVENT
DTSTART;TZID=America/Chicago:20270103T103000
DTEND;TZID=America/Chicago:20270103T120000
DTSTAMP:20260423T041104
CREATED:20250730T163844Z
LAST-MODIFIED:20250730T163844Z
UID:10000336-1798972200-1798977600@fsfbc.org
SUMMARY:Sunday 10:30am Worship Service (Downtown)
DESCRIPTION:First Baptist Fort Smith’s Sunday morning worship service begins at 10:30 a.m. and includes prayer\, praise and worship songs in a variety of styles\, reading from the Bible\, and preaching. Come join us in worship this Sunday!
URL:https://fsfbc.org/event/sunday-1030am-worship-service-downtown/2027-01-03/
CATEGORIES:Downtown
END:VEVENT
BEGIN:VEVENT
DTSTART;TZID=America/Chicago:20270105T113000
DTEND;TZID=America/Chicago:20270105T130000
DTSTAMP:20260423T041104
CREATED:20250730T164247Z
LAST-MODIFIED:20260422T220512Z
UID:10000858-1799148600-1799154000@fsfbc.org
SUMMARY:Men's Lunch (Downtown)
DESCRIPTION:$7 \nThe Men’s Lunch at First Baptist Fort Smith brings men together from across our area to enjoy a good meal\, experience fellowship with one another\, meet new friends\, and hear a great message. The lunch is held every Tuesday at 11:30 a.m.\, and the cost is only $7.00 per person. We’re always happy to welcome guests\, and we hope to see you soon.
URL:https://fsfbc.org/event/mens-lunch-downtown/2027-01-05/
CATEGORIES:Downtown
END:VEVENT
BEGIN:VEVENT
DTSTART;TZID=America/Chicago:20270106T164500
DTEND;TZID=America/Chicago:20270106T174500
DTSTAMP:20260423T041104
CREATED:20250730T164108Z
LAST-MODIFIED:20260422T220552Z
UID:10000598-1799253900-1799257500@fsfbc.org
SUMMARY:Wednesday Night Family Meal (Downtown)
DESCRIPTION:Join FBC before our Wednesday night activities for a family meal and fellowship. Our Wednesday meal helps families by offering an affordable\, convenient dinner in our Fellowship Hall from 4:45 pm to 5:45 pm. Reservations are requested. \nReservations can be arranged at our Welcome Center on Sunday mornings or by contacting our church office during the week.
URL:https://fsfbc.org/event/wednesday-night-family-meal-downtown/2027-01-06/
CATEGORIES:Downtown
END:VEVENT
BEGIN:VEVENT
DTSTART;TZID=America/Chicago:20270107T113000
DTEND;TZID=America/Chicago:20270107T124500
DTSTAMP:20260423T041104
CREATED:20250730T164359Z
LAST-MODIFIED:20260422T220625Z
UID:10001120-1799321400-1799325900@fsfbc.org
SUMMARY:The 60+ Lunch (Downtown)
DESCRIPTION:$5.00 \nThe 60+ Lunch at First Baptist Fort Smith welcomes everyone in the River Valley 60 years and older for a time of “feast\, fellowship\, & fun” as we eat\, enjoy each other’s company\, and hear a Bible Study or other helpful lessons related to Christian living. \nGuests and visitors are welcome. Cost is only $5.00 per person\, “the best deal in town!”
URL:https://fsfbc.org/event/the-60-lunch-downtown/2027-01-07/
CATEGORIES:Downtown
END:VEVENT
BEGIN:VEVENT
DTSTART;TZID=America/Chicago:20270110T091500
DTEND;TZID=America/Chicago:20270110T101500
DTSTAMP:20260423T041104
CREATED:20250730T163604Z
LAST-MODIFIED:20250730T163604Z
UID:10000076-1799572500-1799576100@fsfbc.org
SUMMARY:Sunday School Small Groups 9:15am (Downtown)
DESCRIPTION:We have a Sunday school small group for everyone\, from birth to senior adults. Visit our welcome center for a listing of groups and get connected with friends that can last a lifetime!
URL:https://fsfbc.org/event/sunday-school-small-groups-915am-downtown/2027-01-10/
CATEGORIES:Downtown
END:VEVENT
BEGIN:VEVENT
DTSTART;TZID=America/Chicago:20270110T103000
DTEND;TZID=America/Chicago:20270110T120000
DTSTAMP:20260423T041104
CREATED:20250730T163844Z
LAST-MODIFIED:20250730T163844Z
UID:10000337-1799577000-1799582400@fsfbc.org
SUMMARY:Sunday 10:30am Worship Service (Downtown)
DESCRIPTION:First Baptist Fort Smith’s Sunday morning worship service begins at 10:30 a.m. and includes prayer\, praise and worship songs in a variety of styles\, reading from the Bible\, and preaching. Come join us in worship this Sunday!
URL:https://fsfbc.org/event/sunday-1030am-worship-service-downtown/2027-01-10/
CATEGORIES:Downtown
END:VEVENT
BEGIN:VEVENT
DTSTART;TZID=America/Chicago:20270112T113000
DTEND;TZID=America/Chicago:20270112T130000
DTSTAMP:20260423T041104
CREATED:20250730T164247Z
LAST-MODIFIED:20260422T220512Z
UID:10000859-1799753400-1799758800@fsfbc.org
SUMMARY:Men's Lunch (Downtown)
DESCRIPTION:$7 \nThe Men’s Lunch at First Baptist Fort Smith brings men together from across our area to enjoy a good meal\, experience fellowship with one another\, meet new friends\, and hear a great message. The lunch is held every Tuesday at 11:30 a.m.\, and the cost is only $7.00 per person. We’re always happy to welcome guests\, and we hope to see you soon.
URL:https://fsfbc.org/event/mens-lunch-downtown/2027-01-12/
CATEGORIES:Downtown
END:VEVENT
BEGIN:VEVENT
DTSTART;TZID=America/Chicago:20270113T164500
DTEND;TZID=America/Chicago:20270113T174500
DTSTAMP:20260423T041104
CREATED:20250730T164108Z
LAST-MODIFIED:20260422T220552Z
UID:10000599-1799858700-1799862300@fsfbc.org
SUMMARY:Wednesday Night Family Meal (Downtown)
DESCRIPTION:Join FBC before our Wednesday night activities for a family meal and fellowship. Our Wednesday meal helps families by offering an affordable\, convenient dinner in our Fellowship Hall from 4:45 pm to 5:45 pm. Reservations are requested. \nReservations can be arranged at our Welcome Center on Sunday mornings or by contacting our church office during the week.
URL:https://fsfbc.org/event/wednesday-night-family-meal-downtown/2027-01-13/
CATEGORIES:Downtown
END:VEVENT
BEGIN:VEVENT
DTSTART;TZID=America/Chicago:20270114T113000
DTEND;TZID=America/Chicago:20270114T124500
DTSTAMP:20260423T041104
CREATED:20250730T164359Z
LAST-MODIFIED:20260422T220625Z
UID:10001121-1799926200-1799930700@fsfbc.org
SUMMARY:The 60+ Lunch (Downtown)
DESCRIPTION:$5.00 \nThe 60+ Lunch at First Baptist Fort Smith welcomes everyone in the River Valley 60 years and older for a time of “feast\, fellowship\, & fun” as we eat\, enjoy each other’s company\, and hear a Bible Study or other helpful lessons related to Christian living. \nGuests and visitors are welcome. Cost is only $5.00 per person\, “the best deal in town!”
URL:https://fsfbc.org/event/the-60-lunch-downtown/2027-01-14/
CATEGORIES:Downtown
END:VEVENT
BEGIN:VEVENT
DTSTART;TZID=America/Chicago:20270117T091500
DTEND;TZID=America/Chicago:20270117T101500
DTSTAMP:20260423T041104
CREATED:20250730T163604Z
LAST-MODIFIED:20250730T163604Z
UID:10000077-1800177300-1800180900@fsfbc.org
SUMMARY:Sunday School Small Groups 9:15am (Downtown)
DESCRIPTION:We have a Sunday school small group for everyone\, from birth to senior adults. Visit our welcome center for a listing of groups and get connected with friends that can last a lifetime!
URL:https://fsfbc.org/event/sunday-school-small-groups-915am-downtown/2027-01-17/
CATEGORIES:Downtown
END:VEVENT
BEGIN:VEVENT
DTSTART;TZID=America/Chicago:20270117T103000
DTEND;TZID=America/Chicago:20270117T120000
DTSTAMP:20260423T041104
CREATED:20250730T163844Z
LAST-MODIFIED:20250730T163844Z
UID:10000338-1800181800-1800187200@fsfbc.org
SUMMARY:Sunday 10:30am Worship Service (Downtown)
DESCRIPTION:First Baptist Fort Smith’s Sunday morning worship service begins at 10:30 a.m. and includes prayer\, praise and worship songs in a variety of styles\, reading from the Bible\, and preaching. Come join us in worship this Sunday!
URL:https://fsfbc.org/event/sunday-1030am-worship-service-downtown/2027-01-17/
CATEGORIES:Downtown
END:VEVENT
BEGIN:VEVENT
DTSTART;TZID=America/Chicago:20270119T113000
DTEND;TZID=America/Chicago:20270119T130000
DTSTAMP:20260423T041104
CREATED:20250730T164247Z
LAST-MODIFIED:20260422T220512Z
UID:10000860-1800358200-1800363600@fsfbc.org
SUMMARY:Men's Lunch (Downtown)
DESCRIPTION:$7 \nThe Men’s Lunch at First Baptist Fort Smith brings men together from across our area to enjoy a good meal\, experience fellowship with one another\, meet new friends\, and hear a great message. The lunch is held every Tuesday at 11:30 a.m.\, and the cost is only $7.00 per person. We’re always happy to welcome guests\, and we hope to see you soon.
URL:https://fsfbc.org/event/mens-lunch-downtown/2027-01-19/
CATEGORIES:Downtown
END:VEVENT
BEGIN:VEVENT
DTSTART;TZID=America/Chicago:20270120T164500
DTEND;TZID=America/Chicago:20270120T174500
DTSTAMP:20260423T041104
CREATED:20250730T164108Z
LAST-MODIFIED:20260422T220552Z
UID:10000600-1800463500-1800467100@fsfbc.org
SUMMARY:Wednesday Night Family Meal (Downtown)
DESCRIPTION:Join FBC before our Wednesday night activities for a family meal and fellowship. Our Wednesday meal helps families by offering an affordable\, convenient dinner in our Fellowship Hall from 4:45 pm to 5:45 pm. Reservations are requested. \nReservations can be arranged at our Welcome Center on Sunday mornings or by contacting our church office during the week.
URL:https://fsfbc.org/event/wednesday-night-family-meal-downtown/2027-01-20/
CATEGORIES:Downtown
END:VEVENT
BEGIN:VEVENT
DTSTART;TZID=America/Chicago:20270121T113000
DTEND;TZID=America/Chicago:20270121T124500
DTSTAMP:20260423T041104
CREATED:20250730T164359Z
LAST-MODIFIED:20260422T220625Z
UID:10001122-1800531000-1800535500@fsfbc.org
SUMMARY:The 60+ Lunch (Downtown)
DESCRIPTION:$5.00 \nThe 60+ Lunch at First Baptist Fort Smith welcomes everyone in the River Valley 60 years and older for a time of “feast\, fellowship\, & fun” as we eat\, enjoy each other’s company\, and hear a Bible Study or other helpful lessons related to Christian living. \nGuests and visitors are welcome. Cost is only $5.00 per person\, “the best deal in town!”
URL:https://fsfbc.org/event/the-60-lunch-downtown/2027-01-21/
CATEGORIES:Downtown
END:VEVENT
BEGIN:VEVENT
DTSTART;TZID=America/Chicago:20270124T091500
DTEND;TZID=America/Chicago:20270124T101500
DTSTAMP:20260423T041104
CREATED:20250730T163604Z
LAST-MODIFIED:20250730T163604Z
UID:10000078-1800782100-1800785700@fsfbc.org
SUMMARY:Sunday School Small Groups 9:15am (Downtown)
DESCRIPTION:We have a Sunday school small group for everyone\, from birth to senior adults. Visit our welcome center for a listing of groups and get connected with friends that can last a lifetime!
URL:https://fsfbc.org/event/sunday-school-small-groups-915am-downtown/2027-01-24/
CATEGORIES:Downtown
END:VEVENT
BEGIN:VEVENT
DTSTART;TZID=America/Chicago:20270124T103000
DTEND;TZID=America/Chicago:20270124T120000
DTSTAMP:20260423T041104
CREATED:20250730T163844Z
LAST-MODIFIED:20250730T163844Z
UID:10000339-1800786600-1800792000@fsfbc.org
SUMMARY:Sunday 10:30am Worship Service (Downtown)
DESCRIPTION:First Baptist Fort Smith’s Sunday morning worship service begins at 10:30 a.m. and includes prayer\, praise and worship songs in a variety of styles\, reading from the Bible\, and preaching. Come join us in worship this Sunday!
URL:https://fsfbc.org/event/sunday-1030am-worship-service-downtown/2027-01-24/
CATEGORIES:Downtown
END:VEVENT
BEGIN:VEVENT
DTSTART;TZID=America/Chicago:20270126T113000
DTEND;TZID=America/Chicago:20270126T130000
DTSTAMP:20260423T041104
CREATED:20250730T164247Z
LAST-MODIFIED:20260422T220512Z
UID:10000861-1800963000-1800968400@fsfbc.org
SUMMARY:Men's Lunch (Downtown)
DESCRIPTION:$7 \nThe Men’s Lunch at First Baptist Fort Smith brings men together from across our area to enjoy a good meal\, experience fellowship with one another\, meet new friends\, and hear a great message. The lunch is held every Tuesday at 11:30 a.m.\, and the cost is only $7.00 per person. We’re always happy to welcome guests\, and we hope to see you soon.
URL:https://fsfbc.org/event/mens-lunch-downtown/2027-01-26/
CATEGORIES:Downtown
END:VEVENT
BEGIN:VEVENT
DTSTART;TZID=America/Chicago:20270127T164500
DTEND;TZID=America/Chicago:20270127T174500
DTSTAMP:20260423T041104
CREATED:20250730T164108Z
LAST-MODIFIED:20260422T220552Z
UID:10000601-1801068300-1801071900@fsfbc.org
SUMMARY:Wednesday Night Family Meal (Downtown)
DESCRIPTION:Join FBC before our Wednesday night activities for a family meal and fellowship. Our Wednesday meal helps families by offering an affordable\, convenient dinner in our Fellowship Hall from 4:45 pm to 5:45 pm. Reservations are requested. \nReservations can be arranged at our Welcome Center on Sunday mornings or by contacting our church office during the week.
URL:https://fsfbc.org/event/wednesday-night-family-meal-downtown/2027-01-27/
CATEGORIES:Downtown
END:VEVENT
BEGIN:VEVENT
DTSTART;TZID=America/Chicago:20270128T113000
DTEND;TZID=America/Chicago:20270128T124500
DTSTAMP:20260423T041104
CREATED:20250730T164359Z
LAST-MODIFIED:20260422T220625Z
UID:10001123-1801135800-1801140300@fsfbc.org
SUMMARY:The 60+ Lunch (Downtown)
DESCRIPTION:$5.00 \nThe 60+ Lunch at First Baptist Fort Smith welcomes everyone in the River Valley 60 years and older for a time of “feast\, fellowship\, & fun” as we eat\, enjoy each other’s company\, and hear a Bible Study or other helpful lessons related to Christian living. \nGuests and visitors are welcome. Cost is only $5.00 per person\, “the best deal in town!”
URL:https://fsfbc.org/event/the-60-lunch-downtown/2027-01-28/
CATEGORIES:Downtown
END:VEVENT
BEGIN:VEVENT
DTSTART;TZID=America/Chicago:20270131T091500
DTEND;TZID=America/Chicago:20270131T101500
DTSTAMP:20260423T041104
CREATED:20250730T163604Z
LAST-MODIFIED:20250730T163604Z
UID:10000079-1801386900-1801390500@fsfbc.org
SUMMARY:Sunday School Small Groups 9:15am (Downtown)
DESCRIPTION:We have a Sunday school small group for everyone\, from birth to senior adults. Visit our welcome center for a listing of groups and get connected with friends that can last a lifetime!
URL:https://fsfbc.org/event/sunday-school-small-groups-915am-downtown/2027-01-31/
CATEGORIES:Downtown
END:VEVENT
BEGIN:VEVENT
DTSTART;TZID=America/Chicago:20270131T103000
DTEND;TZID=America/Chicago:20270131T120000
DTSTAMP:20260423T041104
CREATED:20250730T163844Z
LAST-MODIFIED:20250730T163844Z
UID:10000340-1801391400-1801396800@fsfbc.org
SUMMARY:Sunday 10:30am Worship Service (Downtown)
DESCRIPTION:First Baptist Fort Smith’s Sunday morning worship service begins at 10:30 a.m. and includes prayer\, praise and worship songs in a variety of styles\, reading from the Bible\, and preaching. Come join us in worship this Sunday!
URL:https://fsfbc.org/event/sunday-1030am-worship-service-downtown/2027-01-31/
CATEGORIES:Downtown
END:VEVENT
BEGIN:VEVENT
DTSTART;TZID=America/Chicago:20270202T113000
DTEND;TZID=America/Chicago:20270202T130000
DTSTAMP:20260423T041104
CREATED:20250730T164247Z
LAST-MODIFIED:20260422T220512Z
UID:10000862-1801567800-1801573200@fsfbc.org
SUMMARY:Men's Lunch (Downtown)
DESCRIPTION:$7 \nThe Men’s Lunch at First Baptist Fort Smith brings men together from across our area to enjoy a good meal\, experience fellowship with one another\, meet new friends\, and hear a great message. The lunch is held every Tuesday at 11:30 a.m.\, and the cost is only $7.00 per person. We’re always happy to welcome guests\, and we hope to see you soon.
URL:https://fsfbc.org/event/mens-lunch-downtown/2027-02-02/
CATEGORIES:Downtown
END:VEVENT
BEGIN:VEVENT
DTSTART;TZID=America/Chicago:20270203T164500
DTEND;TZID=America/Chicago:20270203T174500
DTSTAMP:20260423T041104
CREATED:20250730T164108Z
LAST-MODIFIED:20260422T220552Z
UID:10000602-1801673100-1801676700@fsfbc.org
SUMMARY:Wednesday Night Family Meal (Downtown)
DESCRIPTION:Join FBC before our Wednesday night activities for a family meal and fellowship. Our Wednesday meal helps families by offering an affordable\, convenient dinner in our Fellowship Hall from 4:45 pm to 5:45 pm. Reservations are requested. \nReservations can be arranged at our Welcome Center on Sunday mornings or by contacting our church office during the week.
URL:https://fsfbc.org/event/wednesday-night-family-meal-downtown/2027-02-03/
CATEGORIES:Downtown
END:VEVENT
BEGIN:VEVENT
DTSTART;TZID=America/Chicago:20270204T113000
DTEND;TZID=America/Chicago:20270204T124500
DTSTAMP:20260423T041104
CREATED:20250730T164359Z
LAST-MODIFIED:20260422T220625Z
UID:10001124-1801740600-1801745100@fsfbc.org
SUMMARY:The 60+ Lunch (Downtown)
DESCRIPTION:$5.00 \nThe 60+ Lunch at First Baptist Fort Smith welcomes everyone in the River Valley 60 years and older for a time of “feast\, fellowship\, & fun” as we eat\, enjoy each other’s company\, and hear a Bible Study or other helpful lessons related to Christian living. \nGuests and visitors are welcome. Cost is only $5.00 per person\, “the best deal in town!”
URL:https://fsfbc.org/event/the-60-lunch-downtown/2027-02-04/
CATEGORIES:Downtown
END:VEVENT
BEGIN:VEVENT
DTSTART;TZID=America/Chicago:20270207T091500
DTEND;TZID=America/Chicago:20270207T101500
DTSTAMP:20260423T041104
CREATED:20250730T163604Z
LAST-MODIFIED:20250730T163604Z
UID:10000080-1801991700-1801995300@fsfbc.org
SUMMARY:Sunday School Small Groups 9:15am (Downtown)
DESCRIPTION:We have a Sunday school small group for everyone\, from birth to senior adults. Visit our welcome center for a listing of groups and get connected with friends that can last a lifetime!
URL:https://fsfbc.org/event/sunday-school-small-groups-915am-downtown/2027-02-07/
CATEGORIES:Downtown
END:VEVENT
BEGIN:VEVENT
DTSTART;TZID=America/Chicago:20270207T103000
DTEND;TZID=America/Chicago:20270207T120000
DTSTAMP:20260423T041104
CREATED:20250730T163844Z
LAST-MODIFIED:20250730T163844Z
UID:10000341-1801996200-1802001600@fsfbc.org
SUMMARY:Sunday 10:30am Worship Service (Downtown)
DESCRIPTION:First Baptist Fort Smith’s Sunday morning worship service begins at 10:30 a.m. and includes prayer\, praise and worship songs in a variety of styles\, reading from the Bible\, and preaching. Come join us in worship this Sunday!
URL:https://fsfbc.org/event/sunday-1030am-worship-service-downtown/2027-02-07/
CATEGORIES:Downtown
END:VEVENT
BEGIN:VEVENT
DTSTART;TZID=America/Chicago:20270209T113000
DTEND;TZID=America/Chicago:20270209T130000
DTSTAMP:20260423T041104
CREATED:20250730T164247Z
LAST-MODIFIED:20260422T220512Z
UID:10000863-1802172600-1802178000@fsfbc.org
SUMMARY:Men's Lunch (Downtown)
DESCRIPTION:$7 \nThe Men’s Lunch at First Baptist Fort Smith brings men together from across our area to enjoy a good meal\, experience fellowship with one another\, meet new friends\, and hear a great message. The lunch is held every Tuesday at 11:30 a.m.\, and the cost is only $7.00 per person. We’re always happy to welcome guests\, and we hope to see you soon.
URL:https://fsfbc.org/event/mens-lunch-downtown/2027-02-09/
CATEGORIES:Downtown
END:VEVENT
BEGIN:VEVENT
DTSTART;TZID=America/Chicago:20270210T164500
DTEND;TZID=America/Chicago:20270210T174500
DTSTAMP:20260423T041104
CREATED:20250730T164108Z
LAST-MODIFIED:20260422T220552Z
UID:10000603-1802277900-1802281500@fsfbc.org
SUMMARY:Wednesday Night Family Meal (Downtown)
DESCRIPTION:Join FBC before our Wednesday night activities for a family meal and fellowship. Our Wednesday meal helps families by offering an affordable\, convenient dinner in our Fellowship Hall from 4:45 pm to 5:45 pm. Reservations are requested. \nReservations can be arranged at our Welcome Center on Sunday mornings or by contacting our church office during the week.
URL:https://fsfbc.org/event/wednesday-night-family-meal-downtown/2027-02-10/
CATEGORIES:Downtown
END:VEVENT
END:VCALENDAR