BEGIN:VCALENDAR
VERSION:2.0
PRODID:-//First Baptist Fort Smith - ECPv6.15.20//NONSGML v1.0//EN
CALSCALE:GREGORIAN
METHOD:PUBLISH
X-ORIGINAL-URL:https://fsfbc.org
X-WR-CALDESC:Events for First Baptist Fort Smith
REFRESH-INTERVAL;VALUE=DURATION:PT1H
X-Robots-Tag:noindex
X-PUBLISHED-TTL:PT1H
BEGIN:VTIMEZONE
TZID:America/Chicago
BEGIN:DAYLIGHT
TZOFFSETFROM:-0600
TZOFFSETTO:-0500
TZNAME:CDT
DTSTART:20240310T080000
END:DAYLIGHT
BEGIN:STANDARD
TZOFFSETFROM:-0500
TZOFFSETTO:-0600
TZNAME:CST
DTSTART:20241103T070000
END:STANDARD
BEGIN:DAYLIGHT
TZOFFSETFROM:-0600
TZOFFSETTO:-0500
TZNAME:CDT
DTSTART:20250309T080000
END:DAYLIGHT
BEGIN:STANDARD
TZOFFSETFROM:-0500
TZOFFSETTO:-0600
TZNAME:CST
DTSTART:20251102T070000
END:STANDARD
BEGIN:DAYLIGHT
TZOFFSETFROM:-0600
TZOFFSETTO:-0500
TZNAME:CDT
DTSTART:20260308T080000
END:DAYLIGHT
BEGIN:STANDARD
TZOFFSETFROM:-0500
TZOFFSETTO:-0600
TZNAME:CST
DTSTART:20261101T070000
END:STANDARD
BEGIN:DAYLIGHT
TZOFFSETFROM:-0600
TZOFFSETTO:-0500
TZNAME:CDT
DTSTART:20270314T080000
END:DAYLIGHT
BEGIN:STANDARD
TZOFFSETFROM:-0500
TZOFFSETTO:-0600
TZNAME:CST
DTSTART:20271107T070000
END:STANDARD
END:VTIMEZONE
BEGIN:VEVENT
DTSTART;TZID=America/Chicago:20251207T103000
DTEND;TZID=America/Chicago:20251207T120000
DTSTAMP:20260423T041225
CREATED:20250730T163844Z
LAST-MODIFIED:20250730T163844Z
UID:10000280-1765103400-1765108800@fsfbc.org
SUMMARY:Sunday 10:30am Worship Service (Downtown)
DESCRIPTION:First Baptist Fort Smith’s Sunday morning worship service begins at 10:30 a.m. and includes prayer\, praise and worship songs in a variety of styles\, reading from the Bible\, and preaching. Come join us in worship this Sunday!
URL:https://fsfbc.org/event/sunday-1030am-worship-service-downtown/2025-12-07/
CATEGORIES:Downtown
END:VEVENT
BEGIN:VEVENT
DTSTART;TZID=America/Chicago:20251207T160000
DTEND;TZID=America/Chicago:20251207T193000
DTSTAMP:20260423T041225
CREATED:20251029T163050Z
LAST-MODIFIED:20251029T163050Z
UID:10001323-1765123200-1765135800@fsfbc.org
SUMMARY:Christmas At First\, 4:30 Festival\, 6:00 concert (Downtown)
DESCRIPTION:“Christmas at First” on Sunday\, December 7 kicks off with a Christmas Festival at 4:30 p.m.\, followed by a praise and worship concert at 6:00 p.m.
URL:https://fsfbc.org/event/christmas-at-first-430-festival-600-concert-downtown/
CATEGORIES:Chaffee,Downtown
END:VEVENT
BEGIN:VEVENT
DTSTART;TZID=America/Chicago:20251209T113000
DTEND;TZID=America/Chicago:20251209T130000
DTSTAMP:20260423T041225
CREATED:20250730T164247Z
LAST-MODIFIED:20260422T220512Z
UID:10000802-1765279800-1765285200@fsfbc.org
SUMMARY:Men's Lunch (Downtown)
DESCRIPTION:$7 \nThe Men’s Lunch at First Baptist Fort Smith brings men together from across our area to enjoy a good meal\, experience fellowship with one another\, meet new friends\, and hear a great message. The lunch is held every Tuesday at 11:30 a.m.\, and the cost is only $7.00 per person. We’re always happy to welcome guests\, and we hope to see you soon.
URL:https://fsfbc.org/event/mens-lunch-downtown/2025-12-09/
CATEGORIES:Downtown
END:VEVENT
BEGIN:VEVENT
DTSTART;TZID=America/Chicago:20251210T164500
DTEND;TZID=America/Chicago:20251210T174500
DTSTAMP:20260423T041225
CREATED:20250730T164108Z
LAST-MODIFIED:20260422T220552Z
UID:10000542-1765385100-1765388700@fsfbc.org
SUMMARY:Wednesday Night Family Meal (Downtown)
DESCRIPTION:Join FBC before our Wednesday night activities for a family meal and fellowship. Our Wednesday meal helps families by offering an affordable\, convenient dinner in our Fellowship Hall from 4:45 pm to 5:45 pm. Reservations are requested. \nReservations can be arranged at our Welcome Center on Sunday mornings or by contacting our church office during the week.
URL:https://fsfbc.org/event/wednesday-night-family-meal-downtown/2025-12-10/
CATEGORIES:Downtown
END:VEVENT
BEGIN:VEVENT
DTSTART;TZID=America/Chicago:20251211T113000
DTEND;TZID=America/Chicago:20251211T124500
DTSTAMP:20260423T041225
CREATED:20250730T164359Z
LAST-MODIFIED:20260422T220625Z
UID:10001064-1765452600-1765457100@fsfbc.org
SUMMARY:The 60+ Lunch (Downtown)
DESCRIPTION:$5.00 \nThe 60+ Lunch at First Baptist Fort Smith welcomes everyone in the River Valley 60 years and older for a time of “feast\, fellowship\, & fun” as we eat\, enjoy each other’s company\, and hear a Bible Study or other helpful lessons related to Christian living. \nGuests and visitors are welcome. Cost is only $5.00 per person\, “the best deal in town!”
URL:https://fsfbc.org/event/the-60-lunch-downtown/2025-12-11/
CATEGORIES:Downtown
END:VEVENT
BEGIN:VEVENT
DTSTART;TZID=America/Chicago:20251214T091500
DTEND;TZID=America/Chicago:20251214T101500
DTSTAMP:20260423T041225
CREATED:20250730T163604Z
LAST-MODIFIED:20250730T163604Z
UID:10000020-1765703700-1765707300@fsfbc.org
SUMMARY:Sunday School Small Groups 9:15am (Downtown)
DESCRIPTION:We have a Sunday school small group for everyone\, from birth to senior adults. Visit our welcome center for a listing of groups and get connected with friends that can last a lifetime!
URL:https://fsfbc.org/event/sunday-school-small-groups-915am-downtown/2025-12-14/
CATEGORIES:Downtown
END:VEVENT
BEGIN:VEVENT
DTSTART;TZID=America/Chicago:20251214T103000
DTEND;TZID=America/Chicago:20251214T120000
DTSTAMP:20260423T041225
CREATED:20250730T163844Z
LAST-MODIFIED:20250730T163844Z
UID:10000281-1765708200-1765713600@fsfbc.org
SUMMARY:Sunday 10:30am Worship Service (Downtown)
DESCRIPTION:First Baptist Fort Smith’s Sunday morning worship service begins at 10:30 a.m. and includes prayer\, praise and worship songs in a variety of styles\, reading from the Bible\, and preaching. Come join us in worship this Sunday!
URL:https://fsfbc.org/event/sunday-1030am-worship-service-downtown/2025-12-14/
CATEGORIES:Downtown
END:VEVENT
BEGIN:VEVENT
DTSTART;TZID=America/Chicago:20251221T091500
DTEND;TZID=America/Chicago:20251221T101500
DTSTAMP:20260423T041225
CREATED:20250730T163604Z
LAST-MODIFIED:20250730T163604Z
UID:10000021-1766308500-1766312100@fsfbc.org
SUMMARY:Sunday School Small Groups 9:15am (Downtown)
DESCRIPTION:We have a Sunday school small group for everyone\, from birth to senior adults. Visit our welcome center for a listing of groups and get connected with friends that can last a lifetime!
URL:https://fsfbc.org/event/sunday-school-small-groups-915am-downtown/2025-12-21/
CATEGORIES:Downtown
END:VEVENT
BEGIN:VEVENT
DTSTART;TZID=America/Chicago:20251221T103000
DTEND;TZID=America/Chicago:20251221T120000
DTSTAMP:20260423T041225
CREATED:20250730T163844Z
LAST-MODIFIED:20250730T163844Z
UID:10000282-1766313000-1766318400@fsfbc.org
SUMMARY:Sunday 10:30am Worship Service (Downtown)
DESCRIPTION:First Baptist Fort Smith’s Sunday morning worship service begins at 10:30 a.m. and includes prayer\, praise and worship songs in a variety of styles\, reading from the Bible\, and preaching. Come join us in worship this Sunday!
URL:https://fsfbc.org/event/sunday-1030am-worship-service-downtown/2025-12-21/
CATEGORIES:Downtown
END:VEVENT
BEGIN:VEVENT
DTSTART;TZID=America/Chicago:20251228T091500
DTEND;TZID=America/Chicago:20251228T101500
DTSTAMP:20260423T041225
CREATED:20250730T163604Z
LAST-MODIFIED:20250730T163604Z
UID:10000022-1766913300-1766916900@fsfbc.org
SUMMARY:Sunday School Small Groups 9:15am (Downtown)
DESCRIPTION:We have a Sunday school small group for everyone\, from birth to senior adults. Visit our welcome center for a listing of groups and get connected with friends that can last a lifetime!
URL:https://fsfbc.org/event/sunday-school-small-groups-915am-downtown/2025-12-28/
CATEGORIES:Downtown
END:VEVENT
BEGIN:VEVENT
DTSTART;TZID=America/Chicago:20251228T103000
DTEND;TZID=America/Chicago:20251228T120000
DTSTAMP:20260423T041225
CREATED:20250730T163844Z
LAST-MODIFIED:20250730T163844Z
UID:10000283-1766917800-1766923200@fsfbc.org
SUMMARY:Sunday 10:30am Worship Service (Downtown)
DESCRIPTION:First Baptist Fort Smith’s Sunday morning worship service begins at 10:30 a.m. and includes prayer\, praise and worship songs in a variety of styles\, reading from the Bible\, and preaching. Come join us in worship this Sunday!
URL:https://fsfbc.org/event/sunday-1030am-worship-service-downtown/2025-12-28/
CATEGORIES:Downtown
END:VEVENT
BEGIN:VEVENT
DTSTART;TZID=America/Chicago:20260104T091500
DTEND;TZID=America/Chicago:20260104T101500
DTSTAMP:20260423T041225
CREATED:20250730T163604Z
LAST-MODIFIED:20250730T163604Z
UID:10000023-1767518100-1767521700@fsfbc.org
SUMMARY:Sunday School Small Groups 9:15am (Downtown)
DESCRIPTION:We have a Sunday school small group for everyone\, from birth to senior adults. Visit our welcome center for a listing of groups and get connected with friends that can last a lifetime!
URL:https://fsfbc.org/event/sunday-school-small-groups-915am-downtown/2026-01-04/
CATEGORIES:Downtown
END:VEVENT
BEGIN:VEVENT
DTSTART;TZID=America/Chicago:20260104T103000
DTEND;TZID=America/Chicago:20260104T120000
DTSTAMP:20260423T041225
CREATED:20250730T163844Z
LAST-MODIFIED:20250730T163844Z
UID:10000284-1767522600-1767528000@fsfbc.org
SUMMARY:Sunday 10:30am Worship Service (Downtown)
DESCRIPTION:First Baptist Fort Smith’s Sunday morning worship service begins at 10:30 a.m. and includes prayer\, praise and worship songs in a variety of styles\, reading from the Bible\, and preaching. Come join us in worship this Sunday!
URL:https://fsfbc.org/event/sunday-1030am-worship-service-downtown/2026-01-04/
CATEGORIES:Downtown
END:VEVENT
BEGIN:VEVENT
DTSTART;TZID=America/Chicago:20260106T113000
DTEND;TZID=America/Chicago:20260106T130000
DTSTAMP:20260423T041225
CREATED:20250730T164247Z
LAST-MODIFIED:20260422T220512Z
UID:10000806-1767699000-1767704400@fsfbc.org
SUMMARY:Men's Lunch (Downtown)
DESCRIPTION:$7 \nThe Men’s Lunch at First Baptist Fort Smith brings men together from across our area to enjoy a good meal\, experience fellowship with one another\, meet new friends\, and hear a great message. The lunch is held every Tuesday at 11:30 a.m.\, and the cost is only $7.00 per person. We’re always happy to welcome guests\, and we hope to see you soon.
URL:https://fsfbc.org/event/mens-lunch-downtown/2026-01-06/
CATEGORIES:Downtown
END:VEVENT
BEGIN:VEVENT
DTSTART;TZID=America/Chicago:20260107T164500
DTEND;TZID=America/Chicago:20260107T174500
DTSTAMP:20260423T041225
CREATED:20250730T164108Z
LAST-MODIFIED:20260422T220552Z
UID:10000546-1767804300-1767807900@fsfbc.org
SUMMARY:Wednesday Night Family Meal (Downtown)
DESCRIPTION:Join FBC before our Wednesday night activities for a family meal and fellowship. Our Wednesday meal helps families by offering an affordable\, convenient dinner in our Fellowship Hall from 4:45 pm to 5:45 pm. Reservations are requested. \nReservations can be arranged at our Welcome Center on Sunday mornings or by contacting our church office during the week.
URL:https://fsfbc.org/event/wednesday-night-family-meal-downtown/2026-01-07/
CATEGORIES:Downtown
END:VEVENT
BEGIN:VEVENT
DTSTART;TZID=America/Chicago:20260108T113000
DTEND;TZID=America/Chicago:20260108T124500
DTSTAMP:20260423T041225
CREATED:20250730T164359Z
LAST-MODIFIED:20260422T220625Z
UID:10001068-1767871800-1767876300@fsfbc.org
SUMMARY:The 60+ Lunch (Downtown)
DESCRIPTION:$5.00 \nThe 60+ Lunch at First Baptist Fort Smith welcomes everyone in the River Valley 60 years and older for a time of “feast\, fellowship\, & fun” as we eat\, enjoy each other’s company\, and hear a Bible Study or other helpful lessons related to Christian living. \nGuests and visitors are welcome. Cost is only $5.00 per person\, “the best deal in town!”
URL:https://fsfbc.org/event/the-60-lunch-downtown/2026-01-08/
CATEGORIES:Downtown
END:VEVENT
BEGIN:VEVENT
DTSTART;TZID=America/Chicago:20260111T091500
DTEND;TZID=America/Chicago:20260111T101500
DTSTAMP:20260423T041225
CREATED:20250730T163604Z
LAST-MODIFIED:20250730T163604Z
UID:10000024-1768122900-1768126500@fsfbc.org
SUMMARY:Sunday School Small Groups 9:15am (Downtown)
DESCRIPTION:We have a Sunday school small group for everyone\, from birth to senior adults. Visit our welcome center for a listing of groups and get connected with friends that can last a lifetime!
URL:https://fsfbc.org/event/sunday-school-small-groups-915am-downtown/2026-01-11/
CATEGORIES:Downtown
END:VEVENT
BEGIN:VEVENT
DTSTART;TZID=America/Chicago:20260111T103000
DTEND;TZID=America/Chicago:20260111T120000
DTSTAMP:20260423T041225
CREATED:20250730T163844Z
LAST-MODIFIED:20250730T163844Z
UID:10000285-1768127400-1768132800@fsfbc.org
SUMMARY:Sunday 10:30am Worship Service (Downtown)
DESCRIPTION:First Baptist Fort Smith’s Sunday morning worship service begins at 10:30 a.m. and includes prayer\, praise and worship songs in a variety of styles\, reading from the Bible\, and preaching. Come join us in worship this Sunday!
URL:https://fsfbc.org/event/sunday-1030am-worship-service-downtown/2026-01-11/
CATEGORIES:Downtown
END:VEVENT
BEGIN:VEVENT
DTSTART;TZID=America/Chicago:20260113T113000
DTEND;TZID=America/Chicago:20260113T130000
DTSTAMP:20260423T041225
CREATED:20250730T164247Z
LAST-MODIFIED:20260422T220512Z
UID:10000807-1768303800-1768309200@fsfbc.org
SUMMARY:Men's Lunch (Downtown)
DESCRIPTION:$7 \nThe Men’s Lunch at First Baptist Fort Smith brings men together from across our area to enjoy a good meal\, experience fellowship with one another\, meet new friends\, and hear a great message. The lunch is held every Tuesday at 11:30 a.m.\, and the cost is only $7.00 per person. We’re always happy to welcome guests\, and we hope to see you soon.
URL:https://fsfbc.org/event/mens-lunch-downtown/2026-01-13/
CATEGORIES:Downtown
END:VEVENT
BEGIN:VEVENT
DTSTART;TZID=America/Chicago:20260114T164500
DTEND;TZID=America/Chicago:20260114T174500
DTSTAMP:20260423T041225
CREATED:20250730T164108Z
LAST-MODIFIED:20260422T220552Z
UID:10000547-1768409100-1768412700@fsfbc.org
SUMMARY:Wednesday Night Family Meal (Downtown)
DESCRIPTION:Join FBC before our Wednesday night activities for a family meal and fellowship. Our Wednesday meal helps families by offering an affordable\, convenient dinner in our Fellowship Hall from 4:45 pm to 5:45 pm. Reservations are requested. \nReservations can be arranged at our Welcome Center on Sunday mornings or by contacting our church office during the week.
URL:https://fsfbc.org/event/wednesday-night-family-meal-downtown/2026-01-14/
CATEGORIES:Downtown
END:VEVENT
BEGIN:VEVENT
DTSTART;TZID=America/Chicago:20260115T113000
DTEND;TZID=America/Chicago:20260115T124500
DTSTAMP:20260423T041225
CREATED:20250730T164359Z
LAST-MODIFIED:20260422T220625Z
UID:10001069-1768476600-1768481100@fsfbc.org
SUMMARY:The 60+ Lunch (Downtown)
DESCRIPTION:$5.00 \nThe 60+ Lunch at First Baptist Fort Smith welcomes everyone in the River Valley 60 years and older for a time of “feast\, fellowship\, & fun” as we eat\, enjoy each other’s company\, and hear a Bible Study or other helpful lessons related to Christian living. \nGuests and visitors are welcome. Cost is only $5.00 per person\, “the best deal in town!”
URL:https://fsfbc.org/event/the-60-lunch-downtown/2026-01-15/
CATEGORIES:Downtown
END:VEVENT
BEGIN:VEVENT
DTSTART;TZID=America/Chicago:20260118T091500
DTEND;TZID=America/Chicago:20260118T101500
DTSTAMP:20260423T041225
CREATED:20250730T163604Z
LAST-MODIFIED:20250730T163604Z
UID:10000025-1768727700-1768731300@fsfbc.org
SUMMARY:Sunday School Small Groups 9:15am (Downtown)
DESCRIPTION:We have a Sunday school small group for everyone\, from birth to senior adults. Visit our welcome center for a listing of groups and get connected with friends that can last a lifetime!
URL:https://fsfbc.org/event/sunday-school-small-groups-915am-downtown/2026-01-18/
CATEGORIES:Downtown
END:VEVENT
BEGIN:VEVENT
DTSTART;TZID=America/Chicago:20260118T103000
DTEND;TZID=America/Chicago:20260118T120000
DTSTAMP:20260423T041225
CREATED:20250730T163844Z
LAST-MODIFIED:20250730T163844Z
UID:10000286-1768732200-1768737600@fsfbc.org
SUMMARY:Sunday 10:30am Worship Service (Downtown)
DESCRIPTION:First Baptist Fort Smith’s Sunday morning worship service begins at 10:30 a.m. and includes prayer\, praise and worship songs in a variety of styles\, reading from the Bible\, and preaching. Come join us in worship this Sunday!
URL:https://fsfbc.org/event/sunday-1030am-worship-service-downtown/2026-01-18/
CATEGORIES:Downtown
END:VEVENT
BEGIN:VEVENT
DTSTART;TZID=America/Chicago:20260120T113000
DTEND;TZID=America/Chicago:20260120T130000
DTSTAMP:20260423T041225
CREATED:20250730T164247Z
LAST-MODIFIED:20260422T220512Z
UID:10000808-1768908600-1768914000@fsfbc.org
SUMMARY:Men's Lunch (Downtown)
DESCRIPTION:$7 \nThe Men’s Lunch at First Baptist Fort Smith brings men together from across our area to enjoy a good meal\, experience fellowship with one another\, meet new friends\, and hear a great message. The lunch is held every Tuesday at 11:30 a.m.\, and the cost is only $7.00 per person. We’re always happy to welcome guests\, and we hope to see you soon.
URL:https://fsfbc.org/event/mens-lunch-downtown/2026-01-20/
CATEGORIES:Downtown
END:VEVENT
BEGIN:VEVENT
DTSTART;TZID=America/Chicago:20260121T164500
DTEND;TZID=America/Chicago:20260121T174500
DTSTAMP:20260423T041225
CREATED:20250730T164108Z
LAST-MODIFIED:20260422T220552Z
UID:10000548-1769013900-1769017500@fsfbc.org
SUMMARY:Wednesday Night Family Meal (Downtown)
DESCRIPTION:Join FBC before our Wednesday night activities for a family meal and fellowship. Our Wednesday meal helps families by offering an affordable\, convenient dinner in our Fellowship Hall from 4:45 pm to 5:45 pm. Reservations are requested. \nReservations can be arranged at our Welcome Center on Sunday mornings or by contacting our church office during the week.
URL:https://fsfbc.org/event/wednesday-night-family-meal-downtown/2026-01-21/
CATEGORIES:Downtown
END:VEVENT
BEGIN:VEVENT
DTSTART;TZID=America/Chicago:20260122T113000
DTEND;TZID=America/Chicago:20260122T124500
DTSTAMP:20260423T041225
CREATED:20250730T164359Z
LAST-MODIFIED:20260422T220625Z
UID:10001070-1769081400-1769085900@fsfbc.org
SUMMARY:The 60+ Lunch (Downtown)
DESCRIPTION:$5.00 \nThe 60+ Lunch at First Baptist Fort Smith welcomes everyone in the River Valley 60 years and older for a time of “feast\, fellowship\, & fun” as we eat\, enjoy each other’s company\, and hear a Bible Study or other helpful lessons related to Christian living. \nGuests and visitors are welcome. Cost is only $5.00 per person\, “the best deal in town!”
URL:https://fsfbc.org/event/the-60-lunch-downtown/2026-01-22/
CATEGORIES:Downtown
END:VEVENT
BEGIN:VEVENT
DTSTART;TZID=America/Chicago:20260125T091500
DTEND;TZID=America/Chicago:20260125T101500
DTSTAMP:20260423T041225
CREATED:20250730T163604Z
LAST-MODIFIED:20250730T163604Z
UID:10000026-1769332500-1769336100@fsfbc.org
SUMMARY:Sunday School Small Groups 9:15am (Downtown)
DESCRIPTION:We have a Sunday school small group for everyone\, from birth to senior adults. Visit our welcome center for a listing of groups and get connected with friends that can last a lifetime!
URL:https://fsfbc.org/event/sunday-school-small-groups-915am-downtown/2026-01-25/
CATEGORIES:Downtown
END:VEVENT
BEGIN:VEVENT
DTSTART;TZID=America/Chicago:20260125T103000
DTEND;TZID=America/Chicago:20260125T120000
DTSTAMP:20260423T041225
CREATED:20250730T163844Z
LAST-MODIFIED:20250730T163844Z
UID:10000287-1769337000-1769342400@fsfbc.org
SUMMARY:Sunday 10:30am Worship Service (Downtown)
DESCRIPTION:First Baptist Fort Smith’s Sunday morning worship service begins at 10:30 a.m. and includes prayer\, praise and worship songs in a variety of styles\, reading from the Bible\, and preaching. Come join us in worship this Sunday!
URL:https://fsfbc.org/event/sunday-1030am-worship-service-downtown/2026-01-25/
CATEGORIES:Downtown
END:VEVENT
BEGIN:VEVENT
DTSTART;TZID=America/Chicago:20260127T113000
DTEND;TZID=America/Chicago:20260127T130000
DTSTAMP:20260423T041225
CREATED:20250730T164247Z
LAST-MODIFIED:20260422T220512Z
UID:10000809-1769513400-1769518800@fsfbc.org
SUMMARY:Men's Lunch (Downtown)
DESCRIPTION:$7 \nThe Men’s Lunch at First Baptist Fort Smith brings men together from across our area to enjoy a good meal\, experience fellowship with one another\, meet new friends\, and hear a great message. The lunch is held every Tuesday at 11:30 a.m.\, and the cost is only $7.00 per person. We’re always happy to welcome guests\, and we hope to see you soon.
URL:https://fsfbc.org/event/mens-lunch-downtown/2026-01-27/
CATEGORIES:Downtown
END:VEVENT
BEGIN:VEVENT
DTSTART;TZID=America/Chicago:20260128T164500
DTEND;TZID=America/Chicago:20260128T174500
DTSTAMP:20260423T041225
CREATED:20250730T164108Z
LAST-MODIFIED:20260422T220552Z
UID:10000549-1769618700-1769622300@fsfbc.org
SUMMARY:Wednesday Night Family Meal (Downtown)
DESCRIPTION:Join FBC before our Wednesday night activities for a family meal and fellowship. Our Wednesday meal helps families by offering an affordable\, convenient dinner in our Fellowship Hall from 4:45 pm to 5:45 pm. Reservations are requested. \nReservations can be arranged at our Welcome Center on Sunday mornings or by contacting our church office during the week.
URL:https://fsfbc.org/event/wednesday-night-family-meal-downtown/2026-01-28/
CATEGORIES:Downtown
END:VEVENT
END:VCALENDAR