BEGIN:VCALENDAR
VERSION:2.0
PRODID:-//First Baptist Fort Smith - ECPv6.15.20//NONSGML v1.0//EN
CALSCALE:GREGORIAN
METHOD:PUBLISH
X-ORIGINAL-URL:https://fsfbc.org
X-WR-CALDESC:Events for First Baptist Fort Smith
REFRESH-INTERVAL;VALUE=DURATION:PT1H
X-Robots-Tag:noindex
X-PUBLISHED-TTL:PT1H
BEGIN:VTIMEZONE
TZID:America/Chicago
BEGIN:DAYLIGHT
TZOFFSETFROM:-0600
TZOFFSETTO:-0500
TZNAME:CDT
DTSTART:20250309T080000
END:DAYLIGHT
BEGIN:STANDARD
TZOFFSETFROM:-0500
TZOFFSETTO:-0600
TZNAME:CST
DTSTART:20251102T070000
END:STANDARD
BEGIN:DAYLIGHT
TZOFFSETFROM:-0600
TZOFFSETTO:-0500
TZNAME:CDT
DTSTART:20260308T080000
END:DAYLIGHT
BEGIN:STANDARD
TZOFFSETFROM:-0500
TZOFFSETTO:-0600
TZNAME:CST
DTSTART:20261101T070000
END:STANDARD
BEGIN:DAYLIGHT
TZOFFSETFROM:-0600
TZOFFSETTO:-0500
TZNAME:CDT
DTSTART:20270314T080000
END:DAYLIGHT
BEGIN:STANDARD
TZOFFSETFROM:-0500
TZOFFSETTO:-0600
TZNAME:CST
DTSTART:20271107T070000
END:STANDARD
END:VTIMEZONE
BEGIN:VEVENT
DTSTART;TZID=America/Chicago:20260319T113000
DTEND;TZID=America/Chicago:20260319T124500
DTSTAMP:20260422T174650
CREATED:20250730T164359Z
LAST-MODIFIED:20260422T220625Z
UID:10001078-1773919800-1773924300@fsfbc.org
SUMMARY:The 60+ Lunch (Downtown)
DESCRIPTION:$5.00 \nThe 60+ Lunch at First Baptist Fort Smith welcomes everyone in the River Valley 60 years and older for a time of “feast\, fellowship\, & fun” as we eat\, enjoy each other’s company\, and hear a Bible Study or other helpful lessons related to Christian living. \nGuests and visitors are welcome. Cost is only $5.00 per person\, “the best deal in town!”
URL:https://fsfbc.org/event/the-60-lunch-downtown/2026-03-19/
CATEGORIES:Downtown
END:VEVENT
BEGIN:VEVENT
DTSTART;TZID=America/Chicago:20260322T091500
DTEND;TZID=America/Chicago:20260322T101500
DTSTAMP:20260422T174650
CREATED:20250730T163604Z
LAST-MODIFIED:20250730T163604Z
UID:10000034-1774170900-1774174500@fsfbc.org
SUMMARY:Sunday School Small Groups 9:15am (Downtown)
DESCRIPTION:We have a Sunday school small group for everyone\, from birth to senior adults. Visit our welcome center for a listing of groups and get connected with friends that can last a lifetime!
URL:https://fsfbc.org/event/sunday-school-small-groups-915am-downtown/2026-03-22/
CATEGORIES:Downtown
END:VEVENT
BEGIN:VEVENT
DTSTART;TZID=America/Chicago:20260322T103000
DTEND;TZID=America/Chicago:20260322T120000
DTSTAMP:20260422T174650
CREATED:20250730T163844Z
LAST-MODIFIED:20250730T163844Z
UID:10000295-1774175400-1774180800@fsfbc.org
SUMMARY:Sunday 10:30am Worship Service (Downtown)
DESCRIPTION:First Baptist Fort Smith’s Sunday morning worship service begins at 10:30 a.m. and includes prayer\, praise and worship songs in a variety of styles\, reading from the Bible\, and preaching. Come join us in worship this Sunday!
URL:https://fsfbc.org/event/sunday-1030am-worship-service-downtown/2026-03-22/
CATEGORIES:Downtown
END:VEVENT
BEGIN:VEVENT
DTSTART;TZID=America/Chicago:20260324T113000
DTEND;TZID=America/Chicago:20260324T130000
DTSTAMP:20260422T174650
CREATED:20250730T164247Z
LAST-MODIFIED:20260422T220512Z
UID:10000817-1774351800-1774357200@fsfbc.org
SUMMARY:Men's Lunch (Downtown)
DESCRIPTION:$7 \nThe Men’s Lunch at First Baptist Fort Smith brings men together from across our area to enjoy a good meal\, experience fellowship with one another\, meet new friends\, and hear a great message. The lunch is held every Tuesday at 11:30 a.m.\, and the cost is only $7.00 per person. We’re always happy to welcome guests\, and we hope to see you soon.
URL:https://fsfbc.org/event/mens-lunch-downtown/2026-03-24/
CATEGORIES:Downtown
END:VEVENT
BEGIN:VEVENT
DTSTART;TZID=America/Chicago:20260325T164500
DTEND;TZID=America/Chicago:20260325T174500
DTSTAMP:20260422T174650
CREATED:20250730T164108Z
LAST-MODIFIED:20260422T220552Z
UID:10000557-1774457100-1774460700@fsfbc.org
SUMMARY:Wednesday Night Family Meal (Downtown)
DESCRIPTION:Join FBC before our Wednesday night activities for a family meal and fellowship. Our Wednesday meal helps families by offering an affordable\, convenient dinner in our Fellowship Hall from 4:45 pm to 5:45 pm. Reservations are requested. \nReservations can be arranged at our Welcome Center on Sunday mornings or by contacting our church office during the week.
URL:https://fsfbc.org/event/wednesday-night-family-meal-downtown/2026-03-25/
CATEGORIES:Downtown
END:VEVENT
BEGIN:VEVENT
DTSTART;TZID=America/Chicago:20260326T113000
DTEND;TZID=America/Chicago:20260326T124500
DTSTAMP:20260422T174650
CREATED:20250730T164359Z
LAST-MODIFIED:20260422T220625Z
UID:10001079-1774524600-1774529100@fsfbc.org
SUMMARY:The 60+ Lunch (Downtown)
DESCRIPTION:$5.00 \nThe 60+ Lunch at First Baptist Fort Smith welcomes everyone in the River Valley 60 years and older for a time of “feast\, fellowship\, & fun” as we eat\, enjoy each other’s company\, and hear a Bible Study or other helpful lessons related to Christian living. \nGuests and visitors are welcome. Cost is only $5.00 per person\, “the best deal in town!”
URL:https://fsfbc.org/event/the-60-lunch-downtown/2026-03-26/
CATEGORIES:Downtown
END:VEVENT
BEGIN:VEVENT
DTSTART;TZID=America/Chicago:20260329T091500
DTEND;TZID=America/Chicago:20260329T101500
DTSTAMP:20260422T174650
CREATED:20250730T163604Z
LAST-MODIFIED:20250730T163604Z
UID:10000035-1774775700-1774779300@fsfbc.org
SUMMARY:Sunday School Small Groups 9:15am (Downtown)
DESCRIPTION:We have a Sunday school small group for everyone\, from birth to senior adults. Visit our welcome center for a listing of groups and get connected with friends that can last a lifetime!
URL:https://fsfbc.org/event/sunday-school-small-groups-915am-downtown/2026-03-29/
CATEGORIES:Downtown
END:VEVENT
BEGIN:VEVENT
DTSTART;TZID=America/Chicago:20260329T103000
DTEND;TZID=America/Chicago:20260329T120000
DTSTAMP:20260422T174650
CREATED:20250730T163844Z
LAST-MODIFIED:20250730T163844Z
UID:10000296-1774780200-1774785600@fsfbc.org
SUMMARY:Sunday 10:30am Worship Service (Downtown)
DESCRIPTION:First Baptist Fort Smith’s Sunday morning worship service begins at 10:30 a.m. and includes prayer\, praise and worship songs in a variety of styles\, reading from the Bible\, and preaching. Come join us in worship this Sunday!
URL:https://fsfbc.org/event/sunday-1030am-worship-service-downtown/2026-03-29/
CATEGORIES:Downtown
END:VEVENT
BEGIN:VEVENT
DTSTART;TZID=America/Chicago:20260331T113000
DTEND;TZID=America/Chicago:20260331T130000
DTSTAMP:20260422T174650
CREATED:20250730T164247Z
LAST-MODIFIED:20260422T220512Z
UID:10000818-1774956600-1774962000@fsfbc.org
SUMMARY:Men's Lunch (Downtown)
DESCRIPTION:$7 \nThe Men’s Lunch at First Baptist Fort Smith brings men together from across our area to enjoy a good meal\, experience fellowship with one another\, meet new friends\, and hear a great message. The lunch is held every Tuesday at 11:30 a.m.\, and the cost is only $7.00 per person. We’re always happy to welcome guests\, and we hope to see you soon.
URL:https://fsfbc.org/event/mens-lunch-downtown/2026-03-31/
CATEGORIES:Downtown
END:VEVENT
BEGIN:VEVENT
DTSTART;TZID=America/Chicago:20260401T164500
DTEND;TZID=America/Chicago:20260401T174500
DTSTAMP:20260422T174650
CREATED:20250730T164108Z
LAST-MODIFIED:20260422T220552Z
UID:10000558-1775061900-1775065500@fsfbc.org
SUMMARY:Wednesday Night Family Meal (Downtown)
DESCRIPTION:Join FBC before our Wednesday night activities for a family meal and fellowship. Our Wednesday meal helps families by offering an affordable\, convenient dinner in our Fellowship Hall from 4:45 pm to 5:45 pm. Reservations are requested. \nReservations can be arranged at our Welcome Center on Sunday mornings or by contacting our church office during the week.
URL:https://fsfbc.org/event/wednesday-night-family-meal-downtown/2026-04-01/
CATEGORIES:Downtown
END:VEVENT
BEGIN:VEVENT
DTSTART;TZID=America/Chicago:20260402T113000
DTEND;TZID=America/Chicago:20260402T124500
DTSTAMP:20260422T174650
CREATED:20250730T164359Z
LAST-MODIFIED:20260422T220625Z
UID:10001080-1775129400-1775133900@fsfbc.org
SUMMARY:The 60+ Lunch (Downtown)
DESCRIPTION:$5.00 \nThe 60+ Lunch at First Baptist Fort Smith welcomes everyone in the River Valley 60 years and older for a time of “feast\, fellowship\, & fun” as we eat\, enjoy each other’s company\, and hear a Bible Study or other helpful lessons related to Christian living. \nGuests and visitors are welcome. Cost is only $5.00 per person\, “the best deal in town!”
URL:https://fsfbc.org/event/the-60-lunch-downtown/2026-04-02/
CATEGORIES:Downtown
END:VEVENT
BEGIN:VEVENT
DTSTART;TZID=America/Chicago:20260405T091500
DTEND;TZID=America/Chicago:20260405T101500
DTSTAMP:20260422T174650
CREATED:20250730T163604Z
LAST-MODIFIED:20250730T163604Z
UID:10000036-1775380500-1775384100@fsfbc.org
SUMMARY:Sunday School Small Groups 9:15am (Downtown)
DESCRIPTION:We have a Sunday school small group for everyone\, from birth to senior adults. Visit our welcome center for a listing of groups and get connected with friends that can last a lifetime!
URL:https://fsfbc.org/event/sunday-school-small-groups-915am-downtown/2026-04-05/
CATEGORIES:Downtown
END:VEVENT
BEGIN:VEVENT
DTSTART;TZID=America/Chicago:20260405T103000
DTEND;TZID=America/Chicago:20260405T120000
DTSTAMP:20260422T174650
CREATED:20250730T163844Z
LAST-MODIFIED:20250730T163844Z
UID:10000297-1775385000-1775390400@fsfbc.org
SUMMARY:Sunday 10:30am Worship Service (Downtown)
DESCRIPTION:First Baptist Fort Smith’s Sunday morning worship service begins at 10:30 a.m. and includes prayer\, praise and worship songs in a variety of styles\, reading from the Bible\, and preaching. Come join us in worship this Sunday!
URL:https://fsfbc.org/event/sunday-1030am-worship-service-downtown/2026-04-05/
CATEGORIES:Downtown
END:VEVENT
BEGIN:VEVENT
DTSTART;TZID=America/Chicago:20260407T113000
DTEND;TZID=America/Chicago:20260407T130000
DTSTAMP:20260422T174650
CREATED:20250730T164247Z
LAST-MODIFIED:20260422T220512Z
UID:10000819-1775561400-1775566800@fsfbc.org
SUMMARY:Men's Lunch (Downtown)
DESCRIPTION:$7 \nThe Men’s Lunch at First Baptist Fort Smith brings men together from across our area to enjoy a good meal\, experience fellowship with one another\, meet new friends\, and hear a great message. The lunch is held every Tuesday at 11:30 a.m.\, and the cost is only $7.00 per person. We’re always happy to welcome guests\, and we hope to see you soon.
URL:https://fsfbc.org/event/mens-lunch-downtown/2026-04-07/
CATEGORIES:Downtown
END:VEVENT
BEGIN:VEVENT
DTSTART;TZID=America/Chicago:20260408T164500
DTEND;TZID=America/Chicago:20260408T174500
DTSTAMP:20260422T174650
CREATED:20250730T164108Z
LAST-MODIFIED:20260422T220552Z
UID:10000559-1775666700-1775670300@fsfbc.org
SUMMARY:Wednesday Night Family Meal (Downtown)
DESCRIPTION:Join FBC before our Wednesday night activities for a family meal and fellowship. Our Wednesday meal helps families by offering an affordable\, convenient dinner in our Fellowship Hall from 4:45 pm to 5:45 pm. Reservations are requested. \nReservations can be arranged at our Welcome Center on Sunday mornings or by contacting our church office during the week.
URL:https://fsfbc.org/event/wednesday-night-family-meal-downtown/2026-04-08/
CATEGORIES:Downtown
END:VEVENT
BEGIN:VEVENT
DTSTART;TZID=America/Chicago:20260409T113000
DTEND;TZID=America/Chicago:20260409T124500
DTSTAMP:20260422T174650
CREATED:20250730T164359Z
LAST-MODIFIED:20260422T220625Z
UID:10001081-1775734200-1775738700@fsfbc.org
SUMMARY:The 60+ Lunch (Downtown)
DESCRIPTION:$5.00 \nThe 60+ Lunch at First Baptist Fort Smith welcomes everyone in the River Valley 60 years and older for a time of “feast\, fellowship\, & fun” as we eat\, enjoy each other’s company\, and hear a Bible Study or other helpful lessons related to Christian living. \nGuests and visitors are welcome. Cost is only $5.00 per person\, “the best deal in town!”
URL:https://fsfbc.org/event/the-60-lunch-downtown/2026-04-09/
CATEGORIES:Downtown
END:VEVENT
BEGIN:VEVENT
DTSTART;TZID=America/Chicago:20260412T091500
DTEND;TZID=America/Chicago:20260412T101500
DTSTAMP:20260422T174650
CREATED:20250730T163604Z
LAST-MODIFIED:20250730T163604Z
UID:10000037-1775985300-1775988900@fsfbc.org
SUMMARY:Sunday School Small Groups 9:15am (Downtown)
DESCRIPTION:We have a Sunday school small group for everyone\, from birth to senior adults. Visit our welcome center for a listing of groups and get connected with friends that can last a lifetime!
URL:https://fsfbc.org/event/sunday-school-small-groups-915am-downtown/2026-04-12/
CATEGORIES:Downtown
END:VEVENT
BEGIN:VEVENT
DTSTART;TZID=America/Chicago:20260412T103000
DTEND;TZID=America/Chicago:20260412T120000
DTSTAMP:20260422T174650
CREATED:20250730T163844Z
LAST-MODIFIED:20250730T163844Z
UID:10000298-1775989800-1775995200@fsfbc.org
SUMMARY:Sunday 10:30am Worship Service (Downtown)
DESCRIPTION:First Baptist Fort Smith’s Sunday morning worship service begins at 10:30 a.m. and includes prayer\, praise and worship songs in a variety of styles\, reading from the Bible\, and preaching. Come join us in worship this Sunday!
URL:https://fsfbc.org/event/sunday-1030am-worship-service-downtown/2026-04-12/
CATEGORIES:Downtown
END:VEVENT
BEGIN:VEVENT
DTSTART;TZID=America/Chicago:20260412T113000
DTEND;TZID=America/Chicago:20260412T133000
DTSTAMP:20260422T174650
CREATED:20260310T211209Z
LAST-MODIFIED:20260310T211321Z
UID:10001378-1775993400-1776000600@fsfbc.org
SUMMARY:First Family Cookout with Crawfish
DESCRIPTION:Our First Baptist Church Chaffee campus celebrates a First Family Cookout on April 12 at 11:30 a.m. with crawfish\, burgers\, and hotdogs!
URL:https://fsfbc.org/event/family-cookout-with-crawfish/
CATEGORIES:Chaffee
END:VEVENT
BEGIN:VEVENT
DTSTART;TZID=America/Chicago:20260414T113000
DTEND;TZID=America/Chicago:20260414T130000
DTSTAMP:20260422T174650
CREATED:20250730T164247Z
LAST-MODIFIED:20260422T220512Z
UID:10000820-1776166200-1776171600@fsfbc.org
SUMMARY:Men's Lunch (Downtown)
DESCRIPTION:$7 \nThe Men’s Lunch at First Baptist Fort Smith brings men together from across our area to enjoy a good meal\, experience fellowship with one another\, meet new friends\, and hear a great message. The lunch is held every Tuesday at 11:30 a.m.\, and the cost is only $7.00 per person. We’re always happy to welcome guests\, and we hope to see you soon.
URL:https://fsfbc.org/event/mens-lunch-downtown/2026-04-14/
CATEGORIES:Downtown
END:VEVENT
BEGIN:VEVENT
DTSTART;TZID=America/Chicago:20260415T164500
DTEND;TZID=America/Chicago:20260415T174500
DTSTAMP:20260422T174650
CREATED:20250730T164108Z
LAST-MODIFIED:20260422T220552Z
UID:10000560-1776271500-1776275100@fsfbc.org
SUMMARY:Wednesday Night Family Meal (Downtown)
DESCRIPTION:Join FBC before our Wednesday night activities for a family meal and fellowship. Our Wednesday meal helps families by offering an affordable\, convenient dinner in our Fellowship Hall from 4:45 pm to 5:45 pm. Reservations are requested. \nReservations can be arranged at our Welcome Center on Sunday mornings or by contacting our church office during the week.
URL:https://fsfbc.org/event/wednesday-night-family-meal-downtown/2026-04-15/
CATEGORIES:Downtown
END:VEVENT
BEGIN:VEVENT
DTSTART;TZID=America/Chicago:20260416T113000
DTEND;TZID=America/Chicago:20260416T124500
DTSTAMP:20260422T174650
CREATED:20250730T164359Z
LAST-MODIFIED:20260422T220625Z
UID:10001082-1776339000-1776343500@fsfbc.org
SUMMARY:The 60+ Lunch (Downtown)
DESCRIPTION:$5.00 \nThe 60+ Lunch at First Baptist Fort Smith welcomes everyone in the River Valley 60 years and older for a time of “feast\, fellowship\, & fun” as we eat\, enjoy each other’s company\, and hear a Bible Study or other helpful lessons related to Christian living. \nGuests and visitors are welcome. Cost is only $5.00 per person\, “the best deal in town!”
URL:https://fsfbc.org/event/the-60-lunch-downtown/2026-04-16/
CATEGORIES:Downtown
END:VEVENT
BEGIN:VEVENT
DTSTART;VALUE=DATE:20260417
DTEND;VALUE=DATE:20260420
DTSTAMP:20260422T174650
CREATED:20260310T210449Z
LAST-MODIFIED:20260310T210449Z
UID:10001377-1776384000-1776643199@fsfbc.org
SUMMARY:First Family Campout
DESCRIPTION:Join us for a family camp out at Petit Jean State Park! Each campsite has 30 amp hookups without sewer\, and the cost is $60 fee per campsite. The fee is needed by April 12 to secure the spot. Call our FBC church office if you have more questions.
URL:https://fsfbc.org/event/first-family-campout/
CATEGORIES:Chaffee,Downtown
END:VEVENT
BEGIN:VEVENT
DTSTART;TZID=America/Chicago:20260419T091500
DTEND;TZID=America/Chicago:20260419T101500
DTSTAMP:20260422T174650
CREATED:20250730T163604Z
LAST-MODIFIED:20250730T163604Z
UID:10000038-1776590100-1776593700@fsfbc.org
SUMMARY:Sunday School Small Groups 9:15am (Downtown)
DESCRIPTION:We have a Sunday school small group for everyone\, from birth to senior adults. Visit our welcome center for a listing of groups and get connected with friends that can last a lifetime!
URL:https://fsfbc.org/event/sunday-school-small-groups-915am-downtown/2026-04-19/
CATEGORIES:Downtown
END:VEVENT
BEGIN:VEVENT
DTSTART;TZID=America/Chicago:20260419T103000
DTEND;TZID=America/Chicago:20260419T120000
DTSTAMP:20260422T174650
CREATED:20250730T163844Z
LAST-MODIFIED:20250730T163844Z
UID:10000299-1776594600-1776600000@fsfbc.org
SUMMARY:Sunday 10:30am Worship Service (Downtown)
DESCRIPTION:First Baptist Fort Smith’s Sunday morning worship service begins at 10:30 a.m. and includes prayer\, praise and worship songs in a variety of styles\, reading from the Bible\, and preaching. Come join us in worship this Sunday!
URL:https://fsfbc.org/event/sunday-1030am-worship-service-downtown/2026-04-19/
CATEGORIES:Downtown
END:VEVENT
BEGIN:VEVENT
DTSTART;TZID=America/Chicago:20260421T113000
DTEND;TZID=America/Chicago:20260421T130000
DTSTAMP:20260422T174650
CREATED:20250730T164247Z
LAST-MODIFIED:20260422T220512Z
UID:10000821-1776771000-1776776400@fsfbc.org
SUMMARY:Men's Lunch (Downtown)
DESCRIPTION:$7 \nThe Men’s Lunch at First Baptist Fort Smith brings men together from across our area to enjoy a good meal\, experience fellowship with one another\, meet new friends\, and hear a great message. The lunch is held every Tuesday at 11:30 a.m.\, and the cost is only $7.00 per person. We’re always happy to welcome guests\, and we hope to see you soon.
URL:https://fsfbc.org/event/mens-lunch-downtown/2026-04-21/
CATEGORIES:Downtown
END:VEVENT
BEGIN:VEVENT
DTSTART;TZID=America/Chicago:20260422T164500
DTEND;TZID=America/Chicago:20260422T174500
DTSTAMP:20260422T174650
CREATED:20250730T164108Z
LAST-MODIFIED:20260422T220552Z
UID:10000561-1776876300-1776879900@fsfbc.org
SUMMARY:Wednesday Night Family Meal (Downtown)
DESCRIPTION:Join FBC before our Wednesday night activities for a family meal and fellowship. Our Wednesday meal helps families by offering an affordable\, convenient dinner in our Fellowship Hall from 4:45 pm to 5:45 pm. Reservations are requested. \nReservations can be arranged at our Welcome Center on Sunday mornings or by contacting our church office during the week.
URL:https://fsfbc.org/event/wednesday-night-family-meal-downtown/2026-04-22/
CATEGORIES:Downtown
END:VEVENT
BEGIN:VEVENT
DTSTART;TZID=America/Chicago:20260423T180000
DTEND;TZID=America/Chicago:20260423T193000
DTSTAMP:20260422T174650
CREATED:20260416T205946Z
LAST-MODIFIED:20260422T195045Z
UID:10001379-1776967200-1776972600@fsfbc.org
SUMMARY:AR Jubilation Jazz Orchestra Concert
DESCRIPTION:The Arkansas Jubilation Jazz Orchestra returns to FBC Downtown for a patriotic concert celebrating the 250th birthday of America on Thursday\, April 23 at 6:00 p.m. \nBefore the concert\, join us for dinner at 4:45 in the fellowship hall. (Note: This activity replaces the normal 60+ Lunch for this date.)
URL:https://fsfbc.org/event/ar-jubilation-jazz-orchestra-concert/
CATEGORIES:Downtown
END:VEVENT
BEGIN:VEVENT
DTSTART;TZID=America/Chicago:20260426T091500
DTEND;TZID=America/Chicago:20260426T101500
DTSTAMP:20260422T174650
CREATED:20250730T163604Z
LAST-MODIFIED:20250730T163604Z
UID:10000039-1777194900-1777198500@fsfbc.org
SUMMARY:Sunday School Small Groups 9:15am (Downtown)
DESCRIPTION:We have a Sunday school small group for everyone\, from birth to senior adults. Visit our welcome center for a listing of groups and get connected with friends that can last a lifetime!
URL:https://fsfbc.org/event/sunday-school-small-groups-915am-downtown/2026-04-26/
CATEGORIES:Downtown
END:VEVENT
BEGIN:VEVENT
DTSTART;TZID=America/Chicago:20260426T103000
DTEND;TZID=America/Chicago:20260426T120000
DTSTAMP:20260422T174650
CREATED:20250730T163844Z
LAST-MODIFIED:20250730T163844Z
UID:10000300-1777199400-1777204800@fsfbc.org
SUMMARY:Sunday 10:30am Worship Service (Downtown)
DESCRIPTION:First Baptist Fort Smith’s Sunday morning worship service begins at 10:30 a.m. and includes prayer\, praise and worship songs in a variety of styles\, reading from the Bible\, and preaching. Come join us in worship this Sunday!
URL:https://fsfbc.org/event/sunday-1030am-worship-service-downtown/2026-04-26/
CATEGORIES:Downtown
END:VEVENT
END:VCALENDAR