BEGIN:VCALENDAR
VERSION:2.0
PRODID:-//First Baptist Fort Smith - ECPv6.15.20//NONSGML v1.0//EN
CALSCALE:GREGORIAN
METHOD:PUBLISH
X-ORIGINAL-URL:https://fsfbc.org
X-WR-CALDESC:Events for First Baptist Fort Smith
REFRESH-INTERVAL;VALUE=DURATION:PT1H
X-Robots-Tag:noindex
X-PUBLISHED-TTL:PT1H
BEGIN:VTIMEZONE
TZID:America/Chicago
BEGIN:DAYLIGHT
TZOFFSETFROM:-0600
TZOFFSETTO:-0500
TZNAME:CDT
DTSTART:20260308T080000
END:DAYLIGHT
BEGIN:STANDARD
TZOFFSETFROM:-0500
TZOFFSETTO:-0600
TZNAME:CST
DTSTART:20261101T070000
END:STANDARD
BEGIN:DAYLIGHT
TZOFFSETFROM:-0600
TZOFFSETTO:-0500
TZNAME:CDT
DTSTART:20270314T080000
END:DAYLIGHT
BEGIN:STANDARD
TZOFFSETFROM:-0500
TZOFFSETTO:-0600
TZNAME:CST
DTSTART:20271107T070000
END:STANDARD
BEGIN:DAYLIGHT
TZOFFSETFROM:-0600
TZOFFSETTO:-0500
TZNAME:CDT
DTSTART:20280312T080000
END:DAYLIGHT
BEGIN:STANDARD
TZOFFSETFROM:-0500
TZOFFSETTO:-0600
TZNAME:CST
DTSTART:20281105T070000
END:STANDARD
END:VTIMEZONE
BEGIN:VEVENT
DTSTART;TZID=America/Chicago:20270427T113000
DTEND;TZID=America/Chicago:20270427T130000
DTSTAMP:20260423T133642
CREATED:20250730T164247Z
LAST-MODIFIED:20260423T171231Z
UID:10000874-1808825400-1808830800@fsfbc.org
SUMMARY:Men's Lunch (Downtown)
DESCRIPTION:$7 \nThe Men’s Lunch at First Baptist Fort Smith brings men together from across our area to enjoy a good meal\, experience fellowship with one another\, meet new friends\, and hear a great message. The lunch is held every Tuesday at 11:30 a.m.\, and the cost is only $7.00 per person. We’re always happy to welcome guests\, and we hope to see you soon.
URL:https://fsfbc.org/event/mens-lunch-downtown/2027-04-27/
CATEGORIES:Downtown
END:VEVENT
BEGIN:VEVENT
DTSTART;TZID=America/Chicago:20270428T164500
DTEND;TZID=America/Chicago:20270428T174500
DTSTAMP:20260423T133642
CREATED:20250730T164108Z
LAST-MODIFIED:20260423T171348Z
UID:10000614-1808930700-1808934300@fsfbc.org
SUMMARY:Wednesday Night Family Meal (Downtown)
DESCRIPTION:Join FBC before our Wednesday night activities for a family meal and fellowship. Our Wednesday meal helps families by offering an affordable\, convenient dinner in our Fellowship Hall from 4:45 pm to 5:45 pm. Reservations are requested. \nReservations can be arranged at our Welcome Center on Sunday mornings or by contacting our church office during the week.
URL:https://fsfbc.org/event/wednesday-night-family-meal-downtown/2027-04-28/
CATEGORIES:Downtown
END:VEVENT
BEGIN:VEVENT
DTSTART;TZID=America/Chicago:20270429T113000
DTEND;TZID=America/Chicago:20270429T124500
DTSTAMP:20260423T133642
CREATED:20250730T164359Z
LAST-MODIFIED:20260423T171430Z
UID:10001136-1808998200-1809002700@fsfbc.org
SUMMARY:The 60+ Lunch (Downtown)
DESCRIPTION:$5.00 \nThe 60+ Lunch at First Baptist Fort Smith welcomes everyone in the River Valley 60 years and older for a time of “feast\, fellowship\, & fun” as we eat\, enjoy each other’s company\, and hear a Bible Study or other helpful lessons related to Christian living. \nGuests and visitors are welcome. Cost is only $5.00 per person\, “the best deal in town!”
URL:https://fsfbc.org/event/the-60-lunch-downtown/2027-04-29/
CATEGORIES:Downtown
END:VEVENT
BEGIN:VEVENT
DTSTART;TZID=America/Chicago:20270502T091500
DTEND;TZID=America/Chicago:20270502T101500
DTSTAMP:20260423T133642
CREATED:20250730T163604Z
LAST-MODIFIED:20250730T163604Z
UID:10000092-1809249300-1809252900@fsfbc.org
SUMMARY:Sunday School Small Groups 9:15am (Downtown)
DESCRIPTION:We have a Sunday school small group for everyone\, from birth to senior adults. Visit our welcome center for a listing of groups and get connected with friends that can last a lifetime!
URL:https://fsfbc.org/event/sunday-school-small-groups-915am-downtown/2027-05-02/
CATEGORIES:Downtown
END:VEVENT
BEGIN:VEVENT
DTSTART;TZID=America/Chicago:20270502T103000
DTEND;TZID=America/Chicago:20270502T120000
DTSTAMP:20260423T133642
CREATED:20250730T163844Z
LAST-MODIFIED:20250730T163844Z
UID:10000353-1809253800-1809259200@fsfbc.org
SUMMARY:Sunday 10:30am Worship Service (Downtown)
DESCRIPTION:First Baptist Fort Smith’s Sunday morning worship service begins at 10:30 a.m. and includes prayer\, praise and worship songs in a variety of styles\, reading from the Bible\, and preaching. Come join us in worship this Sunday!
URL:https://fsfbc.org/event/sunday-1030am-worship-service-downtown/2027-05-02/
CATEGORIES:Downtown
END:VEVENT
BEGIN:VEVENT
DTSTART;TZID=America/Chicago:20270504T113000
DTEND;TZID=America/Chicago:20270504T130000
DTSTAMP:20260423T133642
CREATED:20250730T164247Z
LAST-MODIFIED:20260423T171231Z
UID:10000875-1809430200-1809435600@fsfbc.org
SUMMARY:Men's Lunch (Downtown)
DESCRIPTION:$7 \nThe Men’s Lunch at First Baptist Fort Smith brings men together from across our area to enjoy a good meal\, experience fellowship with one another\, meet new friends\, and hear a great message. The lunch is held every Tuesday at 11:30 a.m.\, and the cost is only $7.00 per person. We’re always happy to welcome guests\, and we hope to see you soon.
URL:https://fsfbc.org/event/mens-lunch-downtown/2027-05-04/
CATEGORIES:Downtown
END:VEVENT
BEGIN:VEVENT
DTSTART;TZID=America/Chicago:20270505T164500
DTEND;TZID=America/Chicago:20270505T174500
DTSTAMP:20260423T133642
CREATED:20250730T164108Z
LAST-MODIFIED:20260423T171348Z
UID:10000615-1809535500-1809539100@fsfbc.org
SUMMARY:Wednesday Night Family Meal (Downtown)
DESCRIPTION:Join FBC before our Wednesday night activities for a family meal and fellowship. Our Wednesday meal helps families by offering an affordable\, convenient dinner in our Fellowship Hall from 4:45 pm to 5:45 pm. Reservations are requested. \nReservations can be arranged at our Welcome Center on Sunday mornings or by contacting our church office during the week.
URL:https://fsfbc.org/event/wednesday-night-family-meal-downtown/2027-05-05/
CATEGORIES:Downtown
END:VEVENT
BEGIN:VEVENT
DTSTART;TZID=America/Chicago:20270506T113000
DTEND;TZID=America/Chicago:20270506T124500
DTSTAMP:20260423T133642
CREATED:20250730T164359Z
LAST-MODIFIED:20260423T171430Z
UID:10001137-1809603000-1809607500@fsfbc.org
SUMMARY:The 60+ Lunch (Downtown)
DESCRIPTION:$5.00 \nThe 60+ Lunch at First Baptist Fort Smith welcomes everyone in the River Valley 60 years and older for a time of “feast\, fellowship\, & fun” as we eat\, enjoy each other’s company\, and hear a Bible Study or other helpful lessons related to Christian living. \nGuests and visitors are welcome. Cost is only $5.00 per person\, “the best deal in town!”
URL:https://fsfbc.org/event/the-60-lunch-downtown/2027-05-06/
CATEGORIES:Downtown
END:VEVENT
BEGIN:VEVENT
DTSTART;TZID=America/Chicago:20270509T091500
DTEND;TZID=America/Chicago:20270509T101500
DTSTAMP:20260423T133642
CREATED:20250730T163604Z
LAST-MODIFIED:20250730T163604Z
UID:10000093-1809854100-1809857700@fsfbc.org
SUMMARY:Sunday School Small Groups 9:15am (Downtown)
DESCRIPTION:We have a Sunday school small group for everyone\, from birth to senior adults. Visit our welcome center for a listing of groups and get connected with friends that can last a lifetime!
URL:https://fsfbc.org/event/sunday-school-small-groups-915am-downtown/2027-05-09/
CATEGORIES:Downtown
END:VEVENT
BEGIN:VEVENT
DTSTART;TZID=America/Chicago:20270509T103000
DTEND;TZID=America/Chicago:20270509T120000
DTSTAMP:20260423T133642
CREATED:20250730T163844Z
LAST-MODIFIED:20250730T163844Z
UID:10000354-1809858600-1809864000@fsfbc.org
SUMMARY:Sunday 10:30am Worship Service (Downtown)
DESCRIPTION:First Baptist Fort Smith’s Sunday morning worship service begins at 10:30 a.m. and includes prayer\, praise and worship songs in a variety of styles\, reading from the Bible\, and preaching. Come join us in worship this Sunday!
URL:https://fsfbc.org/event/sunday-1030am-worship-service-downtown/2027-05-09/
CATEGORIES:Downtown
END:VEVENT
BEGIN:VEVENT
DTSTART;TZID=America/Chicago:20270511T113000
DTEND;TZID=America/Chicago:20270511T130000
DTSTAMP:20260423T133642
CREATED:20250730T164247Z
LAST-MODIFIED:20260423T171231Z
UID:10000876-1810035000-1810040400@fsfbc.org
SUMMARY:Men's Lunch (Downtown)
DESCRIPTION:$7 \nThe Men’s Lunch at First Baptist Fort Smith brings men together from across our area to enjoy a good meal\, experience fellowship with one another\, meet new friends\, and hear a great message. The lunch is held every Tuesday at 11:30 a.m.\, and the cost is only $7.00 per person. We’re always happy to welcome guests\, and we hope to see you soon.
URL:https://fsfbc.org/event/mens-lunch-downtown/2027-05-11/
CATEGORIES:Downtown
END:VEVENT
BEGIN:VEVENT
DTSTART;TZID=America/Chicago:20270512T164500
DTEND;TZID=America/Chicago:20270512T174500
DTSTAMP:20260423T133642
CREATED:20250730T164108Z
LAST-MODIFIED:20260423T171348Z
UID:10000616-1810140300-1810143900@fsfbc.org
SUMMARY:Wednesday Night Family Meal (Downtown)
DESCRIPTION:Join FBC before our Wednesday night activities for a family meal and fellowship. Our Wednesday meal helps families by offering an affordable\, convenient dinner in our Fellowship Hall from 4:45 pm to 5:45 pm. Reservations are requested. \nReservations can be arranged at our Welcome Center on Sunday mornings or by contacting our church office during the week.
URL:https://fsfbc.org/event/wednesday-night-family-meal-downtown/2027-05-12/
CATEGORIES:Downtown
END:VEVENT
BEGIN:VEVENT
DTSTART;TZID=America/Chicago:20270513T113000
DTEND;TZID=America/Chicago:20270513T124500
DTSTAMP:20260423T133642
CREATED:20250730T164359Z
LAST-MODIFIED:20260423T171430Z
UID:10001138-1810207800-1810212300@fsfbc.org
SUMMARY:The 60+ Lunch (Downtown)
DESCRIPTION:$5.00 \nThe 60+ Lunch at First Baptist Fort Smith welcomes everyone in the River Valley 60 years and older for a time of “feast\, fellowship\, & fun” as we eat\, enjoy each other’s company\, and hear a Bible Study or other helpful lessons related to Christian living. \nGuests and visitors are welcome. Cost is only $5.00 per person\, “the best deal in town!”
URL:https://fsfbc.org/event/the-60-lunch-downtown/2027-05-13/
CATEGORIES:Downtown
END:VEVENT
BEGIN:VEVENT
DTSTART;TZID=America/Chicago:20270516T091500
DTEND;TZID=America/Chicago:20270516T101500
DTSTAMP:20260423T133642
CREATED:20250730T163604Z
LAST-MODIFIED:20250730T163604Z
UID:10000094-1810458900-1810462500@fsfbc.org
SUMMARY:Sunday School Small Groups 9:15am (Downtown)
DESCRIPTION:We have a Sunday school small group for everyone\, from birth to senior adults. Visit our welcome center for a listing of groups and get connected with friends that can last a lifetime!
URL:https://fsfbc.org/event/sunday-school-small-groups-915am-downtown/2027-05-16/
CATEGORIES:Downtown
END:VEVENT
BEGIN:VEVENT
DTSTART;TZID=America/Chicago:20270516T103000
DTEND;TZID=America/Chicago:20270516T120000
DTSTAMP:20260423T133642
CREATED:20250730T163844Z
LAST-MODIFIED:20250730T163844Z
UID:10000355-1810463400-1810468800@fsfbc.org
SUMMARY:Sunday 10:30am Worship Service (Downtown)
DESCRIPTION:First Baptist Fort Smith’s Sunday morning worship service begins at 10:30 a.m. and includes prayer\, praise and worship songs in a variety of styles\, reading from the Bible\, and preaching. Come join us in worship this Sunday!
URL:https://fsfbc.org/event/sunday-1030am-worship-service-downtown/2027-05-16/
CATEGORIES:Downtown
END:VEVENT
BEGIN:VEVENT
DTSTART;TZID=America/Chicago:20270518T113000
DTEND;TZID=America/Chicago:20270518T130000
DTSTAMP:20260423T133642
CREATED:20250730T164247Z
LAST-MODIFIED:20260423T171231Z
UID:10000877-1810639800-1810645200@fsfbc.org
SUMMARY:Men's Lunch (Downtown)
DESCRIPTION:$7 \nThe Men’s Lunch at First Baptist Fort Smith brings men together from across our area to enjoy a good meal\, experience fellowship with one another\, meet new friends\, and hear a great message. The lunch is held every Tuesday at 11:30 a.m.\, and the cost is only $7.00 per person. We’re always happy to welcome guests\, and we hope to see you soon.
URL:https://fsfbc.org/event/mens-lunch-downtown/2027-05-18/
CATEGORIES:Downtown
END:VEVENT
BEGIN:VEVENT
DTSTART;TZID=America/Chicago:20270519T164500
DTEND;TZID=America/Chicago:20270519T174500
DTSTAMP:20260423T133642
CREATED:20250730T164108Z
LAST-MODIFIED:20260423T171348Z
UID:10000617-1810745100-1810748700@fsfbc.org
SUMMARY:Wednesday Night Family Meal (Downtown)
DESCRIPTION:Join FBC before our Wednesday night activities for a family meal and fellowship. Our Wednesday meal helps families by offering an affordable\, convenient dinner in our Fellowship Hall from 4:45 pm to 5:45 pm. Reservations are requested. \nReservations can be arranged at our Welcome Center on Sunday mornings or by contacting our church office during the week.
URL:https://fsfbc.org/event/wednesday-night-family-meal-downtown/2027-05-19/
CATEGORIES:Downtown
END:VEVENT
BEGIN:VEVENT
DTSTART;TZID=America/Chicago:20270520T113000
DTEND;TZID=America/Chicago:20270520T124500
DTSTAMP:20260423T133642
CREATED:20250730T164359Z
LAST-MODIFIED:20260423T171430Z
UID:10001139-1810812600-1810817100@fsfbc.org
SUMMARY:The 60+ Lunch (Downtown)
DESCRIPTION:$5.00 \nThe 60+ Lunch at First Baptist Fort Smith welcomes everyone in the River Valley 60 years and older for a time of “feast\, fellowship\, & fun” as we eat\, enjoy each other’s company\, and hear a Bible Study or other helpful lessons related to Christian living. \nGuests and visitors are welcome. Cost is only $5.00 per person\, “the best deal in town!”
URL:https://fsfbc.org/event/the-60-lunch-downtown/2027-05-20/
CATEGORIES:Downtown
END:VEVENT
BEGIN:VEVENT
DTSTART;TZID=America/Chicago:20270523T091500
DTEND;TZID=America/Chicago:20270523T101500
DTSTAMP:20260423T133642
CREATED:20250730T163604Z
LAST-MODIFIED:20250730T163604Z
UID:10000095-1811063700-1811067300@fsfbc.org
SUMMARY:Sunday School Small Groups 9:15am (Downtown)
DESCRIPTION:We have a Sunday school small group for everyone\, from birth to senior adults. Visit our welcome center for a listing of groups and get connected with friends that can last a lifetime!
URL:https://fsfbc.org/event/sunday-school-small-groups-915am-downtown/2027-05-23/
CATEGORIES:Downtown
END:VEVENT
BEGIN:VEVENT
DTSTART;TZID=America/Chicago:20270523T103000
DTEND;TZID=America/Chicago:20270523T120000
DTSTAMP:20260423T133642
CREATED:20250730T163844Z
LAST-MODIFIED:20250730T163844Z
UID:10000356-1811068200-1811073600@fsfbc.org
SUMMARY:Sunday 10:30am Worship Service (Downtown)
DESCRIPTION:First Baptist Fort Smith’s Sunday morning worship service begins at 10:30 a.m. and includes prayer\, praise and worship songs in a variety of styles\, reading from the Bible\, and preaching. Come join us in worship this Sunday!
URL:https://fsfbc.org/event/sunday-1030am-worship-service-downtown/2027-05-23/
CATEGORIES:Downtown
END:VEVENT
BEGIN:VEVENT
DTSTART;TZID=America/Chicago:20270525T113000
DTEND;TZID=America/Chicago:20270525T130000
DTSTAMP:20260423T133642
CREATED:20250730T164247Z
LAST-MODIFIED:20260423T171231Z
UID:10000878-1811244600-1811250000@fsfbc.org
SUMMARY:Men's Lunch (Downtown)
DESCRIPTION:$7 \nThe Men’s Lunch at First Baptist Fort Smith brings men together from across our area to enjoy a good meal\, experience fellowship with one another\, meet new friends\, and hear a great message. The lunch is held every Tuesday at 11:30 a.m.\, and the cost is only $7.00 per person. We’re always happy to welcome guests\, and we hope to see you soon.
URL:https://fsfbc.org/event/mens-lunch-downtown/2027-05-25/
CATEGORIES:Downtown
END:VEVENT
BEGIN:VEVENT
DTSTART;TZID=America/Chicago:20270526T164500
DTEND;TZID=America/Chicago:20270526T174500
DTSTAMP:20260423T133642
CREATED:20250730T164108Z
LAST-MODIFIED:20260423T171348Z
UID:10000618-1811349900-1811353500@fsfbc.org
SUMMARY:Wednesday Night Family Meal (Downtown)
DESCRIPTION:Join FBC before our Wednesday night activities for a family meal and fellowship. Our Wednesday meal helps families by offering an affordable\, convenient dinner in our Fellowship Hall from 4:45 pm to 5:45 pm. Reservations are requested. \nReservations can be arranged at our Welcome Center on Sunday mornings or by contacting our church office during the week.
URL:https://fsfbc.org/event/wednesday-night-family-meal-downtown/2027-05-26/
CATEGORIES:Downtown
END:VEVENT
BEGIN:VEVENT
DTSTART;TZID=America/Chicago:20270527T113000
DTEND;TZID=America/Chicago:20270527T124500
DTSTAMP:20260423T133642
CREATED:20250730T164359Z
LAST-MODIFIED:20260423T171430Z
UID:10001140-1811417400-1811421900@fsfbc.org
SUMMARY:The 60+ Lunch (Downtown)
DESCRIPTION:$5.00 \nThe 60+ Lunch at First Baptist Fort Smith welcomes everyone in the River Valley 60 years and older for a time of “feast\, fellowship\, & fun” as we eat\, enjoy each other’s company\, and hear a Bible Study or other helpful lessons related to Christian living. \nGuests and visitors are welcome. Cost is only $5.00 per person\, “the best deal in town!”
URL:https://fsfbc.org/event/the-60-lunch-downtown/2027-05-27/
CATEGORIES:Downtown
END:VEVENT
BEGIN:VEVENT
DTSTART;TZID=America/Chicago:20270530T091500
DTEND;TZID=America/Chicago:20270530T101500
DTSTAMP:20260423T133642
CREATED:20250730T163604Z
LAST-MODIFIED:20250730T163604Z
UID:10000096-1811668500-1811672100@fsfbc.org
SUMMARY:Sunday School Small Groups 9:15am (Downtown)
DESCRIPTION:We have a Sunday school small group for everyone\, from birth to senior adults. Visit our welcome center for a listing of groups and get connected with friends that can last a lifetime!
URL:https://fsfbc.org/event/sunday-school-small-groups-915am-downtown/2027-05-30/
CATEGORIES:Downtown
END:VEVENT
BEGIN:VEVENT
DTSTART;TZID=America/Chicago:20270530T103000
DTEND;TZID=America/Chicago:20270530T120000
DTSTAMP:20260423T133642
CREATED:20250730T163844Z
LAST-MODIFIED:20250730T163844Z
UID:10000357-1811673000-1811678400@fsfbc.org
SUMMARY:Sunday 10:30am Worship Service (Downtown)
DESCRIPTION:First Baptist Fort Smith’s Sunday morning worship service begins at 10:30 a.m. and includes prayer\, praise and worship songs in a variety of styles\, reading from the Bible\, and preaching. Come join us in worship this Sunday!
URL:https://fsfbc.org/event/sunday-1030am-worship-service-downtown/2027-05-30/
CATEGORIES:Downtown
END:VEVENT
BEGIN:VEVENT
DTSTART;TZID=America/Chicago:20270601T113000
DTEND;TZID=America/Chicago:20270601T130000
DTSTAMP:20260423T133642
CREATED:20250730T164247Z
LAST-MODIFIED:20260423T171231Z
UID:10000879-1811849400-1811854800@fsfbc.org
SUMMARY:Men's Lunch (Downtown)
DESCRIPTION:$7 \nThe Men’s Lunch at First Baptist Fort Smith brings men together from across our area to enjoy a good meal\, experience fellowship with one another\, meet new friends\, and hear a great message. The lunch is held every Tuesday at 11:30 a.m.\, and the cost is only $7.00 per person. We’re always happy to welcome guests\, and we hope to see you soon.
URL:https://fsfbc.org/event/mens-lunch-downtown/2027-06-01/
CATEGORIES:Downtown
END:VEVENT
BEGIN:VEVENT
DTSTART;TZID=America/Chicago:20270602T164500
DTEND;TZID=America/Chicago:20270602T174500
DTSTAMP:20260423T133642
CREATED:20250730T164108Z
LAST-MODIFIED:20260423T171348Z
UID:10000619-1811954700-1811958300@fsfbc.org
SUMMARY:Wednesday Night Family Meal (Downtown)
DESCRIPTION:Join FBC before our Wednesday night activities for a family meal and fellowship. Our Wednesday meal helps families by offering an affordable\, convenient dinner in our Fellowship Hall from 4:45 pm to 5:45 pm. Reservations are requested. \nReservations can be arranged at our Welcome Center on Sunday mornings or by contacting our church office during the week.
URL:https://fsfbc.org/event/wednesday-night-family-meal-downtown/2027-06-02/
CATEGORIES:Downtown
END:VEVENT
BEGIN:VEVENT
DTSTART;TZID=America/Chicago:20270603T113000
DTEND;TZID=America/Chicago:20270603T124500
DTSTAMP:20260423T133642
CREATED:20250730T164359Z
LAST-MODIFIED:20260423T171430Z
UID:10001141-1812022200-1812026700@fsfbc.org
SUMMARY:The 60+ Lunch (Downtown)
DESCRIPTION:$5.00 \nThe 60+ Lunch at First Baptist Fort Smith welcomes everyone in the River Valley 60 years and older for a time of “feast\, fellowship\, & fun” as we eat\, enjoy each other’s company\, and hear a Bible Study or other helpful lessons related to Christian living. \nGuests and visitors are welcome. Cost is only $5.00 per person\, “the best deal in town!”
URL:https://fsfbc.org/event/the-60-lunch-downtown/2027-06-03/
CATEGORIES:Downtown
END:VEVENT
BEGIN:VEVENT
DTSTART;TZID=America/Chicago:20270606T091500
DTEND;TZID=America/Chicago:20270606T101500
DTSTAMP:20260423T133642
CREATED:20250730T163604Z
LAST-MODIFIED:20250730T163604Z
UID:10000097-1812273300-1812276900@fsfbc.org
SUMMARY:Sunday School Small Groups 9:15am (Downtown)
DESCRIPTION:We have a Sunday school small group for everyone\, from birth to senior adults. Visit our welcome center for a listing of groups and get connected with friends that can last a lifetime!
URL:https://fsfbc.org/event/sunday-school-small-groups-915am-downtown/2027-06-06/
CATEGORIES:Downtown
END:VEVENT
BEGIN:VEVENT
DTSTART;TZID=America/Chicago:20270606T103000
DTEND;TZID=America/Chicago:20270606T120000
DTSTAMP:20260423T133642
CREATED:20250730T163844Z
LAST-MODIFIED:20250730T163844Z
UID:10000358-1812277800-1812283200@fsfbc.org
SUMMARY:Sunday 10:30am Worship Service (Downtown)
DESCRIPTION:First Baptist Fort Smith’s Sunday morning worship service begins at 10:30 a.m. and includes prayer\, praise and worship songs in a variety of styles\, reading from the Bible\, and preaching. Come join us in worship this Sunday!
URL:https://fsfbc.org/event/sunday-1030am-worship-service-downtown/2027-06-06/
CATEGORIES:Downtown
END:VEVENT
END:VCALENDAR