BEGIN:VCALENDAR
VERSION:2.0
PRODID:-//First Baptist Fort Smith - ECPv6.15.20//NONSGML v1.0//EN
CALSCALE:GREGORIAN
METHOD:PUBLISH
X-WR-CALNAME:First Baptist Fort Smith
X-ORIGINAL-URL:https://fsfbc.org
X-WR-CALDESC:Events for First Baptist Fort Smith
REFRESH-INTERVAL;VALUE=DURATION:PT1H
X-Robots-Tag:noindex
X-PUBLISHED-TTL:PT1H
BEGIN:VTIMEZONE
TZID:America/Chicago
BEGIN:DAYLIGHT
TZOFFSETFROM:-0600
TZOFFSETTO:-0500
TZNAME:CDT
DTSTART:20250309T080000
END:DAYLIGHT
BEGIN:STANDARD
TZOFFSETFROM:-0500
TZOFFSETTO:-0600
TZNAME:CST
DTSTART:20251102T070000
END:STANDARD
BEGIN:DAYLIGHT
TZOFFSETFROM:-0600
TZOFFSETTO:-0500
TZNAME:CDT
DTSTART:20260308T080000
END:DAYLIGHT
BEGIN:STANDARD
TZOFFSETFROM:-0500
TZOFFSETTO:-0600
TZNAME:CST
DTSTART:20261101T070000
END:STANDARD
BEGIN:DAYLIGHT
TZOFFSETFROM:-0600
TZOFFSETTO:-0500
TZNAME:CDT
DTSTART:20270314T080000
END:DAYLIGHT
BEGIN:STANDARD
TZOFFSETFROM:-0500
TZOFFSETTO:-0600
TZNAME:CST
DTSTART:20271107T070000
END:STANDARD
END:VTIMEZONE
BEGIN:VEVENT
DTSTART;TZID=America/Chicago:20260601T090000
DTEND;TZID=America/Chicago:20260601T120000
DTSTAMP:20260422T190723
CREATED:20260422T200850Z
LAST-MODIFIED:20260422T200850Z
UID:10001402-1780304400-1780315200@fsfbc.org
SUMMARY:Vacation Bible School
DESCRIPTION:It’s Vacation Bible School at FBC Downtown\, every day from 9:00 a.m. until noon Monday\, June 1 through Friday\, June 5. Contact our Kids Ministry with questions\, and Register and get more information!
URL:https://fsfbc.org/event/vacation-bible-school/2026-06-01/
END:VEVENT
BEGIN:VEVENT
DTSTART;TZID=America/Chicago:20260602T090000
DTEND;TZID=America/Chicago:20260602T120000
DTSTAMP:20260422T190723
CREATED:20260422T200850Z
LAST-MODIFIED:20260422T200850Z
UID:10001403-1780390800-1780401600@fsfbc.org
SUMMARY:Vacation Bible School
DESCRIPTION:It’s Vacation Bible School at FBC Downtown\, every day from 9:00 a.m. until noon Monday\, June 1 through Friday\, June 5. Contact our Kids Ministry with questions\, and Register and get more information!
URL:https://fsfbc.org/event/vacation-bible-school/2026-06-02/
END:VEVENT
BEGIN:VEVENT
DTSTART;TZID=America/Chicago:20260603T090000
DTEND;TZID=America/Chicago:20260603T120000
DTSTAMP:20260422T190723
CREATED:20260422T200850Z
LAST-MODIFIED:20260422T200850Z
UID:10001404-1780477200-1780488000@fsfbc.org
SUMMARY:Vacation Bible School
DESCRIPTION:It’s Vacation Bible School at FBC Downtown\, every day from 9:00 a.m. until noon Monday\, June 1 through Friday\, June 5. Contact our Kids Ministry with questions\, and Register and get more information!
URL:https://fsfbc.org/event/vacation-bible-school/2026-06-03/
END:VEVENT
BEGIN:VEVENT
DTSTART;TZID=America/Chicago:20260604T090000
DTEND;TZID=America/Chicago:20260604T120000
DTSTAMP:20260422T190723
CREATED:20260422T200850Z
LAST-MODIFIED:20260422T200850Z
UID:10001405-1780563600-1780574400@fsfbc.org
SUMMARY:Vacation Bible School
DESCRIPTION:It’s Vacation Bible School at FBC Downtown\, every day from 9:00 a.m. until noon Monday\, June 1 through Friday\, June 5. Contact our Kids Ministry with questions\, and Register and get more information!
URL:https://fsfbc.org/event/vacation-bible-school/2026-06-04/
END:VEVENT
BEGIN:VEVENT
DTSTART;TZID=America/Chicago:20260605T090000
DTEND;TZID=America/Chicago:20260605T120000
DTSTAMP:20260422T190723
CREATED:20260422T200850Z
LAST-MODIFIED:20260422T200850Z
UID:10001406-1780650000-1780660800@fsfbc.org
SUMMARY:Vacation Bible School
DESCRIPTION:It’s Vacation Bible School at FBC Downtown\, every day from 9:00 a.m. until noon Monday\, June 1 through Friday\, June 5. Contact our Kids Ministry with questions\, and Register and get more information!
URL:https://fsfbc.org/event/vacation-bible-school/2026-06-05/
END:VEVENT
END:VCALENDAR